BEGIN:VCALENDAR
VERSION:2.0
PRODID:-//Sociedad de Montaña Ártabros - ECPv6.15.17.1//NONSGML v1.0//EN
CALSCALE:GREGORIAN
METHOD:PUBLISH
X-WR-CALNAME:Sociedad de Montaña Ártabros
X-ORIGINAL-URL:https://artabros.org
X-WR-CALDESC:Eventos para Sociedad de Montaña Ártabros
REFRESH-INTERVAL;VALUE=DURATION:PT1H
X-Robots-Tag:noindex
X-PUBLISHED-TTL:PT1H
BEGIN:VTIMEZONE
TZID:Europe/Madrid
BEGIN:DAYLIGHT
TZOFFSETFROM:+0100
TZOFFSETTO:+0200
TZNAME:CEST
DTSTART:20240331T010000
END:DAYLIGHT
BEGIN:STANDARD
TZOFFSETFROM:+0200
TZOFFSETTO:+0100
TZNAME:CET
DTSTART:20241027T010000
END:STANDARD
BEGIN:DAYLIGHT
TZOFFSETFROM:+0100
TZOFFSETTO:+0200
TZNAME:CEST
DTSTART:20250330T010000
END:DAYLIGHT
BEGIN:STANDARD
TZOFFSETFROM:+0200
TZOFFSETTO:+0100
TZNAME:CET
DTSTART:20251026T010000
END:STANDARD
BEGIN:DAYLIGHT
TZOFFSETFROM:+0100
TZOFFSETTO:+0200
TZNAME:CEST
DTSTART:20260329T010000
END:DAYLIGHT
BEGIN:STANDARD
TZOFFSETFROM:+0200
TZOFFSETTO:+0100
TZNAME:CET
DTSTART:20261025T010000
END:STANDARD
BEGIN:DAYLIGHT
TZOFFSETFROM:+0100
TZOFFSETTO:+0200
TZNAME:CEST
DTSTART:20270328T010000
END:DAYLIGHT
BEGIN:STANDARD
TZOFFSETFROM:+0200
TZOFFSETTO:+0100
TZNAME:CET
DTSTART:20271031T010000
END:STANDARD
END:VTIMEZONE
BEGIN:VEVENT
DTSTART;VALUE=DATE:20250915
DTEND;VALUE=DATE:20260620
DTSTAMP:20260424T020218
CREATED:20260105T172202Z
LAST-MODIFIED:20260119T160257Z
UID:13397-1757894400-1781913599@artabros.org
SUMMARY:CLASES DE ESCALADA - CURSO ESCOLAR 2025/26
DESCRIPTION:TODA LA INFO AQUÍ
URL:https://artabros.org/evento/clases-de-escalada-curso-escolar-2025-26/
CATEGORIES:Cursos,Escalada,Infantiles
ATTACH;FMTTYPE=image/jpeg:https://artabros.org/wp-content/uploads/2026/01/portada-clases-de-escalada.jpg
ORGANIZER;CN="%C3%81rtabros":MAILTO:artabros@artabros.org
END:VEVENT
BEGIN:VEVENT
DTSTART;TZID=Europe/Madrid:20260401T080000
DTEND;TZID=Europe/Madrid:20260630T170000
DTSTAMP:20260424T020218
CREATED:20260310T191459Z
LAST-MODIFIED:20260314T172457Z
UID:13924-1775030400-1782838800@artabros.org
SUMMARY:MARCHA NÓRDICA | CLASES DE ABRIL A JUNIO DE 2026
DESCRIPTION:Este segundo trimestre\, hacemos unos cambios\, para poder ampliarlas en dos horas más al mes\, sin subir la cuota. Serán todos los viernes por la tarde en el lugar habitual del Parque de San Diego\, de 16\,30 h a 19\,30 h.  Para facilitarla asistencia\, cada mes\, cambiaremos el grupo que empieza primero. \nLos horarios quedan así: \nABRIL:  De 16\,30 h– 18 h Nivel 1    –   De 18 h a 19\,30 Nivel 2 \nMAYO:  De 16\,30 h– 18 h Nivel 2    –  De 18 h a 19\,30 Nivel 1 \n JUNIO:  De 16\,30 h– 18 h Nivel 1    –   De 18 h a 19\,30 Nivel 2 \nEn los dos niveles\, el coste será de 25€ mes. La inscripción se podrá hacer en un solo pago de 75€\, o con domiciliación bancaria mensual. \n Inscripción solo para SOCIOS de número. \nEnlaces para realizar la inscripción: \nNivel 1 :  https://artabros.playoffinformatica.com/actividad/79/CLASES-DE-MARCHA-NORDICA-NIVEL-1-2o-TRIMESTRE-2026/ \nNivel 2:   https://artabros.playoffinformatica.com/actividad/78/CLASES-MARCHA-NORDICA-NIVEL-2-2o-TRIMESTRE-2026/ \nTambién vamos a dar la opción del abono de dos clases al mes\, para facilitar la asistencia de quienes les coinciden con viajes o actividades\, y no pueden ir algunos viernes. Tiene un coste de 15€. \nCon esta opción\, se podrá asistir el día que venga mejor sin ponerlo en la inscripción\, pero avisando en el Chat de MN de su asistencia. \nINSCRIPCIÓN \nCLASES DE ABRIL. NIVEL 1 \nhttps://artabros.playoffinformatica.com/actividad/87/MARCHA-NORDICA-NIVEL-1-CLASES-DOS-DIAS-ABRIL-2026/ \nCLASES DE ABRIL NIVEL 2 \nhttps://artabros.playoffinformatica.com/actividad/88/MARCHA-NORDICA-NIVEL-2-CLASES-DOS-DIAS-ABRIL-2026/ \nInformación:  Teléfono/WhatsApp:  623 50 47 71
URL:https://artabros.org/evento/marcha-nordica-clases-de-abril-a-junio-de-2026/
CATEGORIES:Marcha Nórdica
ATTACH;FMTTYPE=image/jpeg:https://artabros.org/wp-content/uploads/2026/03/IMG20260220182114-scaled.jpg
ORGANIZER;CN="David":MAILTO:dasanti31@gmail.com
END:VEVENT
BEGIN:VEVENT
DTSTART;VALUE=DATE:20260606
DTEND;VALUE=DATE:20260608
DTSTAMP:20260424T020218
CREATED:20260127T183050Z
LAST-MODIFIED:20260127T185906Z
UID:13768-1780704000-1780876799@artabros.org
SUMMARY:MONTAÑISMO EN FAMILIA - QUIRÓS/TEVERGA (ASTURIAS) - 6/7 JUNIO¿?
DESCRIPTION:Escalada\, espeleología y montaña en Quirós/Teverga. \nPróximamente más información.
URL:https://artabros.org/evento/montanismo-en-familia-quiros-teverga-asturias-6-7-junio/
CATEGORIES:Escalada,Espeleología,Infantiles,Montaña,Orientación,Otras Actividades,Senderismo
ATTACH;FMTTYPE=image/jpeg:https://artabros.org/wp-content/uploads/2026/01/portada-montanismo-en-familia-1.jpg
END:VEVENT
BEGIN:VEVENT
DTSTART;VALUE=DATE:20260607
DTEND;VALUE=DATE:20260608
DTSTAMP:20260424T020218
CREATED:20260104T174942Z
LAST-MODIFIED:20260112T125636Z
UID:13319-1780790400-1780876799@artabros.org
SUMMARY:CONOCE Y CAMINA | CAMINO VIEJO DE ALDOSENDE | 7 JUNIO
DESCRIPTION:Próximamente más información
URL:https://artabros.org/evento/conoce-y-camina-camino-viejo-de-aldosende-7-junio/
CATEGORIES:Conoce y Camina,Senderismo
ATTACH;FMTTYPE=image/jpeg:https://artabros.org/wp-content/uploads/2026/01/PORTADA-CONOCE-Y-CAMINA-1.jpg
ORGANIZER;CN="%C3%81rtabros":MAILTO:artabros@artabros.org
END:VEVENT
BEGIN:VEVENT
DTSTART;VALUE=DATE:20260611
DTEND;VALUE=DATE:20260620
DTSTAMP:20260424T020218
CREATED:20260112T160624Z
LAST-MODIFIED:20260309T150728Z
UID:13617-1781136000-1781913599@artabros.org
SUMMARY:MONTAÑISMO CLÁSICO | PIRINEOS | 11 AL 19 JULIO
DESCRIPTION:La semana del 11 al 19 de julio nos desplazamos a la zona de los valles occidentales de Huesca para pasar unos días intensos de actividad montañera. Se trata de una zona menos turística y masificada que otras más conocidas como Panticosa\, Benasque u Ordesa\, pero casi igual de interesante desde el punto de vistamontañero. Existen varios picos de renombre entre los 2400m y 2700m (Bisaurín\, Mesa de los Tres Reyes\,Castillo de Acher\, etc).Se trata de ascensiones realizables en un día sin necesidad de usar refugio para la pernocta. Montañas esbeltas pero asequibles para un montañero medio. \nEl programa de actividades se definirá una vez estemos allí con arreglo a la previsión meteorológica\, pero tenemos una serie de objetivos:Peña Forca y Lenito desde la Selva de OzaBisaurín desde GabarditoCastillo de Acher desde la Selva de OzaLa Mesa de los Tres Reyes desde LinzaPunta AguerriIbón de AcheritoChipeta Alto desde Casa de la Mina \n Toda la información en este documento \n Inscripciones en este enlace \nApertura inscripción para no socios a partir del 1 de abril.
URL:https://artabros.org/evento/montanismo-clasico-pirineos-11-al-19-julio/
CATEGORIES:Montaña
ATTACH;FMTTYPE=image/jpeg:https://artabros.org/wp-content/uploads/2026/01/portada-montanismo-clasico-.jpg
ORGANIZER;CN="%C3%81rtabros":MAILTO:artabros@artabros.org
END:VEVENT
BEGIN:VEVENT
DTSTART;VALUE=DATE:20260614
DTEND;VALUE=DATE:20260615
DTSTAMP:20260424T020218
CREATED:20260104T175123Z
LAST-MODIFIED:20260104T193135Z
UID:13321-1781395200-1781481599@artabros.org
SUMMARY:CONOCE Y CAMINA | A LAMA (PONTEVEDRA) | 14 JUNIO
DESCRIPTION:Próximamente más información
URL:https://artabros.org/evento/conoce-y-camina-a-lama-pontevedra-14-junio/
CATEGORIES:Conoce y Camina,Senderismo
ATTACH;FMTTYPE=image/jpeg:https://artabros.org/wp-content/uploads/2026/01/PORTADA-CONOCE-Y-CAMINA-1.jpg
ORGANIZER;CN="%C3%81rtabros":MAILTO:artabros@artabros.org
END:VEVENT
BEGIN:VEVENT
DTSTART;VALUE=DATE:20260619
DTEND;VALUE=DATE:20260622
DTSTAMP:20260424T020218
CREATED:20260112T151542Z
LAST-MODIFIED:20260112T151542Z
UID:13615-1781827200-1782086399@artabros.org
SUMMARY:MONTAÑISMO CLÁSICO | ANCARES | 19\,20 Y 21 JUNIO
DESCRIPTION:TRAVESÍA DE REFUGIOS. \nPRÓXIMAMENTE MÁS INFORMACIÓN.
URL:https://artabros.org/evento/montanismo-clasico-ancares-1920-y-21-junio/
CATEGORIES:Montaña
ATTACH;FMTTYPE=image/jpeg:https://artabros.org/wp-content/uploads/2026/01/portada-montanismo-clasico-.jpg
ORGANIZER;CN="%C3%81rtabros":MAILTO:artabros@artabros.org
END:VEVENT
BEGIN:VEVENT
DTSTART;VALUE=DATE:20260623
DTEND;VALUE=DATE:20260628
DTSTAMP:20260424T020218
CREATED:20260104T175425Z
LAST-MODIFIED:20260318T092423Z
UID:13323-1782172800-1782604799@artabros.org
SUMMARY:SENDERISMO | VETERANOS ACTIVOS EN PENICHE (PORTUGAL) | 23 AL 27 DE JUNIO
DESCRIPTION:Este verano tenemos un nuevo viaje de Veteranos Activos en Peniche\, Portugal\, con actividades en Ericeira y visita al Cabo da Roca. \n\nToda la información en este documento: Veteranos en Peniche\nIncripciones aquí
URL:https://artabros.org/evento/senderismo-peniche-islas-berlengas-lisboa-portugal-22-a-26-de-junio/
CATEGORIES:Senderismo,Veteranos Activos
ATTACH;FMTTYPE=image/jpeg:https://artabros.org/wp-content/uploads/2026/01/portada-SENDERSIMO.jpg
ORGANIZER;CN="%C3%81rtabros":MAILTO:artabros@artabros.org
END:VEVENT
BEGIN:VEVENT
DTSTART;VALUE=DATE:20260627
DTEND;VALUE=DATE:20260628
DTSTAMP:20260424T020218
CREATED:20260127T190635Z
LAST-MODIFIED:20260127T190635Z
UID:13770-1782518400-1782604799@artabros.org
SUMMARY:MONTAÑISMO EN FAMILIA - O GROVE - 27 JUNIO
DESCRIPTION:Carrera de liga gallega de orientación + actividad acuática (O Grove) \nPróximamente más información
URL:https://artabros.org/evento/montanismo-en-familia-o-grove-27-junio/
CATEGORIES:Escalada,Espeleología,Infantiles,Montaña,Orientación,Otras Actividades,Senderismo
ATTACH;FMTTYPE=image/jpeg:https://artabros.org/wp-content/uploads/2026/01/portada-montanismo-en-familia-1.jpg
END:VEVENT
BEGIN:VEVENT
DTSTART;TZID=Europe/Madrid:20260627T080000
DTEND;TZID=Europe/Madrid:20260628T170000
DTSTAMP:20260424T020218
CREATED:20260110T155816Z
LAST-MODIFIED:20260110T155930Z
UID:13562-1782547200-1782666000@artabros.org
SUMMARY:ORIENTACIÓN | CAMPEONATO XUNTA DE GALICIA DE DISTANCIA MEDIA DE O-PIE  Y DE TRAIL-O Y 4ª PRUEBA DE SPRINT | O Grove (Pontevedra) | 27 y 28 de junio de 2026
DESCRIPTION:El Club Aromon de Pontevedra organiza 3 pruebas de la Liga Gallega de Orientación en O Grove los próximos 27 y 28 de junio: el Campeonato Xunta de Galicia de Distancia Media de Orientación a Pie y el Campeonato Xunta de Galicia de Trail-O\, que serán la quinta y tercera pruebas de la temporada\, respectivamente; y la 4ª prueba de la Liga Gallega de Sprint. Toda la información se irá publicando próximamente en la web de la Federación Gallega de Orientación.
URL:https://artabros.org/evento/orientacion-campeonato-xunta-de-galicia-de-distancia-media-de-o-pie-4a-prueba-de-spint-y-3a-prueba-de-trail-o-o-grove-pontevedra-27-y-28-de-junio-de-2026/
CATEGORIES:Orientación
ATTACH;FMTTYPE=image/jpeg:https://artabros.org/wp-content/uploads/2026/01/portada-orientacion.jpg
END:VEVENT
END:VCALENDAR