BEGIN:VCALENDAR
VERSION:2.0
PRODID:-//Sociedad de Montaña Ártabros - ECPv6.15.17.1//NONSGML v1.0//EN
CALSCALE:GREGORIAN
METHOD:PUBLISH
X-ORIGINAL-URL:https://artabros.org
X-WR-CALDESC:Eventos para Sociedad de Montaña Ártabros
REFRESH-INTERVAL;VALUE=DURATION:PT1H
X-Robots-Tag:noindex
X-PUBLISHED-TTL:PT1H
BEGIN:VTIMEZONE
TZID:Europe/Madrid
BEGIN:DAYLIGHT
TZOFFSETFROM:+0100
TZOFFSETTO:+0200
TZNAME:CEST
DTSTART:20240331T010000
END:DAYLIGHT
BEGIN:STANDARD
TZOFFSETFROM:+0200
TZOFFSETTO:+0100
TZNAME:CET
DTSTART:20241027T010000
END:STANDARD
BEGIN:DAYLIGHT
TZOFFSETFROM:+0100
TZOFFSETTO:+0200
TZNAME:CEST
DTSTART:20250330T010000
END:DAYLIGHT
BEGIN:STANDARD
TZOFFSETFROM:+0200
TZOFFSETTO:+0100
TZNAME:CET
DTSTART:20251026T010000
END:STANDARD
BEGIN:DAYLIGHT
TZOFFSETFROM:+0100
TZOFFSETTO:+0200
TZNAME:CEST
DTSTART:20260329T010000
END:DAYLIGHT
BEGIN:STANDARD
TZOFFSETFROM:+0200
TZOFFSETTO:+0100
TZNAME:CET
DTSTART:20261025T010000
END:STANDARD
BEGIN:DAYLIGHT
TZOFFSETFROM:+0100
TZOFFSETTO:+0200
TZNAME:CEST
DTSTART:20270328T010000
END:DAYLIGHT
BEGIN:STANDARD
TZOFFSETFROM:+0200
TZOFFSETTO:+0100
TZNAME:CET
DTSTART:20271031T010000
END:STANDARD
END:VTIMEZONE
BEGIN:VEVENT
DTSTART;VALUE=DATE:20250915
DTEND;VALUE=DATE:20260620
DTSTAMP:20260424T001632
CREATED:20260105T172202Z
LAST-MODIFIED:20260119T160257Z
UID:13397-1757894400-1781913599@artabros.org
SUMMARY:CLASES DE ESCALADA - CURSO ESCOLAR 2025/26
DESCRIPTION:TODA LA INFO AQUÍ
URL:https://artabros.org/evento/clases-de-escalada-curso-escolar-2025-26/
CATEGORIES:Cursos,Escalada,Infantiles
ATTACH;FMTTYPE=image/jpeg:https://artabros.org/wp-content/uploads/2026/01/portada-clases-de-escalada.jpg
ORGANIZER;CN="%C3%81rtabros":MAILTO:artabros@artabros.org
END:VEVENT
BEGIN:VEVENT
DTSTART;TZID=Europe/Madrid:20260401T080000
DTEND;TZID=Europe/Madrid:20260630T170000
DTSTAMP:20260424T001632
CREATED:20260310T191459Z
LAST-MODIFIED:20260314T172457Z
UID:13924-1775030400-1782838800@artabros.org
SUMMARY:MARCHA NÓRDICA | CLASES DE ABRIL A JUNIO DE 2026
DESCRIPTION:Este segundo trimestre\, hacemos unos cambios\, para poder ampliarlas en dos horas más al mes\, sin subir la cuota. Serán todos los viernes por la tarde en el lugar habitual del Parque de San Diego\, de 16\,30 h a 19\,30 h.  Para facilitarla asistencia\, cada mes\, cambiaremos el grupo que empieza primero. \nLos horarios quedan así: \nABRIL:  De 16\,30 h– 18 h Nivel 1    –   De 18 h a 19\,30 Nivel 2 \nMAYO:  De 16\,30 h– 18 h Nivel 2    –  De 18 h a 19\,30 Nivel 1 \n JUNIO:  De 16\,30 h– 18 h Nivel 1    –   De 18 h a 19\,30 Nivel 2 \nEn los dos niveles\, el coste será de 25€ mes. La inscripción se podrá hacer en un solo pago de 75€\, o con domiciliación bancaria mensual. \n Inscripción solo para SOCIOS de número. \nEnlaces para realizar la inscripción: \nNivel 1 :  https://artabros.playoffinformatica.com/actividad/79/CLASES-DE-MARCHA-NORDICA-NIVEL-1-2o-TRIMESTRE-2026/ \nNivel 2:   https://artabros.playoffinformatica.com/actividad/78/CLASES-MARCHA-NORDICA-NIVEL-2-2o-TRIMESTRE-2026/ \nTambién vamos a dar la opción del abono de dos clases al mes\, para facilitar la asistencia de quienes les coinciden con viajes o actividades\, y no pueden ir algunos viernes. Tiene un coste de 15€. \nCon esta opción\, se podrá asistir el día que venga mejor sin ponerlo en la inscripción\, pero avisando en el Chat de MN de su asistencia. \nINSCRIPCIÓN \nCLASES DE ABRIL. NIVEL 1 \nhttps://artabros.playoffinformatica.com/actividad/87/MARCHA-NORDICA-NIVEL-1-CLASES-DOS-DIAS-ABRIL-2026/ \nCLASES DE ABRIL NIVEL 2 \nhttps://artabros.playoffinformatica.com/actividad/88/MARCHA-NORDICA-NIVEL-2-CLASES-DOS-DIAS-ABRIL-2026/ \nInformación:  Teléfono/WhatsApp:  623 50 47 71
URL:https://artabros.org/evento/marcha-nordica-clases-de-abril-a-junio-de-2026/
CATEGORIES:Marcha Nórdica
ATTACH;FMTTYPE=image/jpeg:https://artabros.org/wp-content/uploads/2026/03/IMG20260220182114-scaled.jpg
ORGANIZER;CN="David":MAILTO:dasanti31@gmail.com
END:VEVENT
BEGIN:VEVENT
DTSTART;VALUE=DATE:20260430
DTEND;VALUE=DATE:20260504
DTSTAMP:20260424T001632
CREATED:20260104T174234Z
LAST-MODIFIED:20260220T193047Z
UID:13307-1777507200-1777852799@artabros.org
SUMMARY:SENDERISMO EN EL PARQUE NATURAL DE REDES (Asturias)| DEL 30 DE ABRIL AL 3 DE MAYO DE 2026
DESCRIPTION:En el “puente del uno de mayo”\, nos vamos a este bellísimo Parque Natural de Asturias. Tenemos un programa variado por los lugares más representativos\, combinado con visitas culturales de gran interés.  El alojamiento será en Hotel La Lastra\, en Campo de Caso  http://www.hotellalastra.es/ Tenéis toda la información en este documento. \nInscripción: \nSocios de número en habitaciones dobles:  310€ – En habitaciones individuales: 350€    No socios:  Recargo de 30€. \nSe podrá pagar en tres plazos: 70€ en febrero\, 120€ en marzo\, 120€ hasta el 15 de abril. \nSolo se podrá hacer por este enlace\, no valdrá la llamada o el mensaje: \nhttps://artabros.playoffinformatica.com/actividad/67/Parque-Natural-Redes-de-Asturias/ \nInformación:  Teléfono/WhatsApp  623 50 47 71 \nSalida:  Jueves 30 de abril\, de la parada de bus de Deportienda\, en el Estadio de Riazor\, con las paradas de Juan Flórez\, Alfonso Molina y Carrefour. \n  \n  \n  \n  \n. \n  \n  \n  \n  \n 
URL:https://artabros.org/evento/senderismo-redes-asturias-30-abril-a-3-mayo/
CATEGORIES:Otras Actividades,Senderismo
ATTACH;FMTTYPE=image/jpeg:https://artabros.org/wp-content/uploads/2026/02/Felechosa-octubre-2021-171.jpg
ORGANIZER;CN="David":MAILTO:dasanti31@gmail.com
END:VEVENT
BEGIN:VEVENT
DTSTART;VALUE=DATE:20260502
DTEND;VALUE=DATE:20260510
DTSTAMP:20260424T001632
CREATED:20260119T154134Z
LAST-MODIFIED:20260207T095636Z
UID:13682-1777680000-1778371199@artabros.org
SUMMARY:MONTAÑISMO CLÁSICO | MACIZO TOUBKAL (MARRUECOS) | 2 AL 9 MAYO
DESCRIPTION:Actividad de trekking de varios días atravesando el macizo del Toubkal con ascensión a algunos de sus picos más altos. Organizado por nuestro socio Nolo Esmorís. \nToda la información en este documento \nInscripción aquí \n 
URL:https://artabros.org/evento/montanismo-clasico-macizo-toubkal-marruecos-2-al-8-mayo/
CATEGORIES:Montaña
ATTACH;FMTTYPE=image/jpeg:https://artabros.org/wp-content/uploads/2026/01/portada-montanismo-clasico-.jpg
ORGANIZER;CN="%C3%81rtabros":MAILTO:artabros@artabros.org
END:VEVENT
BEGIN:VEVENT
DTSTART;VALUE=DATE:20260506
DTEND;VALUE=DATE:20260507
DTSTAMP:20260424T001632
CREATED:20260104T174416Z
LAST-MODIFIED:20260421T084813Z
UID:13311-1778025600-1778111999@artabros.org
SUMMARY:VETERANOS ACTIVOS | CIRCULAR POR BETANZOS | MÉRCORES 6 MAYO 2026  -  APLAZADO
DESCRIPTION:Por razones técnicas\, se pospone a una nueva fecha que se anunciará próximamente.
URL:https://artabros.org/evento/veteranos-activos-circular-por-betanzos-6-mayo/
CATEGORIES:Senderismo,Veteranos Activos
ATTACH;FMTTYPE=image/jpeg:https://artabros.org/wp-content/uploads/2026/01/portada-veteranos-activos-2.jpg
ORGANIZER;CN="%C3%81rtabros":MAILTO:artabros@artabros.org
END:VEVENT
BEGIN:VEVENT
DTSTART;TZID=Europe/Madrid:20260509T080000
DTEND;TZID=Europe/Madrid:20260509T170000
DTSTAMP:20260424T001632
CREATED:20260110T152703Z
LAST-MODIFIED:20260417T123928Z
UID:13558-1778313600-1778346000@artabros.org
SUMMARY:ORIENTACIÓN | 4ª PRUEBA DE LA LIGA GALLEGA DE ORIENTACIÓN A PIE Y 1ª PRUEBA DE LA LIGA GALLEGA DE SPRINT | Oleiros (A Coruña) | 9 mayo 2026
DESCRIPTION:Ártabros\, en colaboración con el Club de Orientación Liceo y el Club Gallaecia Raid\, organiza el sábado 9 de mayo en Oleiros dos pruebas de la Liga Gallega de Orientación\, la cuarta prueba de orientación a pie de la temporada y la primera prueba de sprint. \nSe trata de dos carreras que se realizarán en mapas próximos a contornas urbanas\, de forma que habrá recorridos adaptados a todas las edades y niveles\, que permitirán disfrutar del evento tanto a familias como a los corredores más experimentados. \nEl programa completo y los horarios detallados se irán publicando próximamente\, pero el evento se desarrollará en horario de mañana. \nRequisitos: \n\nPodrá participar cualquier persona que esté inscrita en la carrera en las categorías de iniciación (corta o larga).\nLa inscripción a cada evento se hará de forma individual\, pero en las categorías de iniciación se podrá realizar la carrera de forma conjunta.\nTodos los menores tendrán que ir acompañados en todo momento de algún adulto a su cargo.\nNo se requiere experiencia previa\, pero los participantes tendrán que ser capaces de completar caminando un recorrido de 3-4 km por un entorno semiurbano. La duración de la actividad será de 1-2 horas.\n\nMaterial necesario: \n\nRopa y calzado cómodos.\nBrújula (no es imprescindible\, pero se recomienda traer en caso de tener una)\nMapa (proporcionado por la organización)\nTarjeta Sport Ident (en caso de no tener una\, será proporcionada por la organización. El alquiler será gratuito para las personas socias del club y de 3 euros para las no socias).\nMochila y recipiente con agua (opcional)\nRopa de repuesto.\n\nTransporte: \n\nEn coches particulares hasta el Aparcamiento de las pistas de atletismo de la Facultad de Ciencias del Deporte y de la Educación Física (UDC) en Bastiagueiro\n\nPrecios por persona: \n\nPersonas no federadas NO socias de Ártabros NI del Club Liceo: 2 € por cada prueba+ 2.5 € por la licencia de día (válida para ls dos pruebas) (y 3 €/ prueba  en caso de alquiler de SI)\nPersonas no federadas socias de Ártabros o del Club Liceo: 2\,5 €(solamente licencia de día).\n\nInscripciones: \n\nTodas las personas no federadas deberán realizar la inscripción a cada una de las pruebas de forma individual a través del formulario que compartiremos próximamente\, apuntándose en las categorías de iniciación corta (abierta a cualquier edad) o iniciación larga (nacidos en 2010 o anteriores).\nLa inscripción de las personas federadas se realizará como es habitual a través de la intranet de FEGADO\nInscripciones abiertas hasta el domingo 03 de mayo a las 23:50.\n\nLos boletines con la información de cada evento se irán actualizando en la web de la Federación Gallega de Orientación.
URL:https://artabros.org/evento/orientacion-4a-prueba-de-la-liga-gallega-de-orientacion-a-pie-y-1a-prueba-de-la-liga-gallega-de-sprint-oleiros-a-coruna-9-mayo-2026/
CATEGORIES:Orientación
ATTACH;FMTTYPE=image/jpeg:https://artabros.org/wp-content/uploads/2026/01/portada-orientacion.jpg
END:VEVENT
BEGIN:VEVENT
DTSTART;VALUE=DATE:20260515
DTEND;VALUE=DATE:20260518
DTSTAMP:20260424T001632
CREATED:20260112T151350Z
LAST-MODIFIED:20260415T174431Z
UID:13613-1778803200-1779062399@artabros.org
SUMMARY:MONTAÑISMO CLÁSICO | SOMIEDO | 15\,16 Y 17 MAYO
DESCRIPTION:PROGRAMA:    \nVIERNES 15 MAYO: Por la tarde noche llegada al albergue de Saliencia. \nSÁBADO 16 MAYO: Ruta de ascensión a los Bígaros y el Muñón por la Foz del Arroxu desde el albergue.   \nDOMINGO 17 DE MAYO: Pico Albo Oriental y Albo Occidental desde el Alto de La Farrapona pasando por los lagos de Saliencia. Vuelta a casa a primera hora de la tarde.  \nPRECIO: 65€ SOCIOS   –   90€ NO SOCIOS. (El plazo de inscripción para no socios comienza el 27 de abril). \nGRUPO: máximo 12 personas \nINCLUYE: Actividades de montañismo\, Alojamiento\, Seguro\, Guías titulados\, Cocina libre. \nNO INCLUYE: Transporte\, Comidas\, cenas ni desayunos\, Ropa de cama ni toalla. \nMás información en este documento \nInscripciones aquí\n 
URL:https://artabros.org/evento/montanismo-clasico-somiedo-1516-y-17-mayo/
CATEGORIES:Montaña
ATTACH;FMTTYPE=image/jpeg:https://artabros.org/wp-content/uploads/2026/01/portada-montanismo-clasico-.jpg
ORGANIZER;CN="%C3%81rtabros":MAILTO:artabros@artabros.org
END:VEVENT
BEGIN:VEVENT
DTSTART;TZID=Europe/Madrid:20260516T100000
DTEND;TZID=Europe/Madrid:20260516T220000
DTSTAMP:20260424T001632
CREATED:20260419T195003Z
LAST-MODIFIED:20260419T195003Z
UID:14226-1778925600-1778968800@artabros.org
SUMMARY:MARCHA NÓRDICA| PROBA DA COPA GALEGA DE MARCHA NÓRDICA | SALVATERRA DE MIÑO (Pontevedra) | SÁBADO 16 DE MAIO DE 2026
DESCRIPTION:No noso traballo por consolidar a Marcha Nórdica\, como una actividade dinamizadora mais en Ártabros\, animámovos a participar nesta primeira proba oficial do ano. Ainda que as competicións son só unha parte dás nosas actividades\, cremos que asistencia\, serve para aumentar a nosa aficción e nivel técnico\, xuntando a moitos participantes dás nosas clases e fortalecendo o sentimento de grupo de marchadoras/es\, aínda moi novo. Realmente\, trátase dunha festa\, onde reúnese praticantes de toda Galicia\, que podemos coñecer e dos que aprender moito. \nPara facilitar a asistencia de socios\, non  socios\, e amigos\, poñemos un BUS\, ao custo que nos sae o desprazamento en coche particular\, coa comodidade de non ter que conducir e o divertido que é viaxar en grupo. \n    Custo socios: 30€     Non socios: 35€   A inscrición tédela  que facer  nesta ligazón: \nhttps://artabros.playoffinformatica.com/actividad/99/Copa-Galega-de-Marcha-Nordica-2026-Salvatera-de-Mino-Transporte-en-bus/ \n     SAÍDA: 10 horas\, de Riazor e dás paradas habituais. CHEGADA: 22 horas\, aproximadamente. \nAdemáis\, lebrade anotarvos na proba\, ven a modalidade de OPEN\, con xo 6\,6 km\, e a dá COPA\, con 11 km\, tedes que entrar nesta ligazón: \nhttps://sportmaniacs.com/es/services/inscription/i-proba-da-copa-e-iii-open-de-marcha-nordica-concello-de-salvaterra-de-mintildeo \nQuenes participen por primeira vez\, e teñan dúbidas\, poden poñerse en contacto con Yuliia ou David.
URL:https://artabros.org/evento/marcha-nordica-proba-da-copa-galega-de-marcha-nordica-salvaterra-de-mino-pontevedra-sabado-16-de-maio-de-2026/
CATEGORIES:Marcha Nórdica,Otras Actividades
ATTACH;FMTTYPE=image/jpeg:https://artabros.org/wp-content/uploads/2026/04/IMG20250907120552-scaled.jpg
ORGANIZER;CN="David":MAILTO:dasanti31@gmail.com
END:VEVENT
BEGIN:VEVENT
DTSTART;VALUE=DATE:20260517
DTEND;VALUE=DATE:20260518
DTSTAMP:20260424T001632
CREATED:20260104T174602Z
LAST-MODIFIED:20260421T151358Z
UID:13314-1778976000-1779062399@artabros.org
SUMMARY:COÑECE E CAMIÑA | PR-G 241 – VÍA KUNIG | BARALLA (Lugo) | DOMINGO 10 DE MAIO DE 2026
DESCRIPTION:Neste Coñece e Camiña imos ó Val de Neira de Xusá\, que así era como se chamaba antes Baralla\, e que sigue formando parte do Val. Pero a ruta se sitúa na contorna do rio Neira; está flanqueada pola serra de Neira\, o leste a serra de Penedón e o Oeste pola serra de Rañadoiro\, sempre tendo o río Neira como centro e cunha paisaxe moi variada mais principalmente de bosque autóctono. \nActividade subvencionada polo Concello da Coruña. \nTedes toda a información neste documento \nNº de prazas: 55 \nCusto :   Socio de número/aspirante:  15 €       Non socio de número/aspirante:  19€ \nPara realizar a inscrición\, é necesario acceder a esta ligazón  https://artabros.playoffinformatica.com/actividad/98/CYC-17-MAYO-RIO-NEIRA-BARALLA/ \nInformación: Teléfono/WhatsApp: 623 50 47 71 \nA saída será ás 8:00 h desde as paradas habituais \n 
URL:https://artabros.org/evento/conoce-y-camina-baralla-17-mayo/
CATEGORIES:Conoce y Camina,Senderismo
ATTACH;FMTTYPE=image/jpeg:https://artabros.org/wp-content/uploads/2026/04/Baralla-PrepCC-17-5-2026-38-scaled.jpg
END:VEVENT
BEGIN:VEVENT
DTSTART;VALUE=DATE:20260527
DTEND;VALUE=DATE:20260528
DTSTAMP:20260424T001632
CREATED:20260104T174805Z
LAST-MODIFIED:20260104T174805Z
UID:13317-1779840000-1779926399@artabros.org
SUMMARY:VETERANOS ACTIVOS - RIO BARBANTIÑO (OURENSE) - 27 MAYO
DESCRIPTION:Próximamente más información
URL:https://artabros.org/evento/veteranos-activos-rio-barbantino-ourense-27-mayo/
CATEGORIES:Senderismo,Veteranos Activos
ATTACH;FMTTYPE=image/jpeg:https://artabros.org/wp-content/uploads/2026/01/portada-veteranos-activos-2.jpg
ORGANIZER;CN="%C3%81rtabros":MAILTO:artabros@artabros.org
END:VEVENT
BEGIN:VEVENT
DTSTART;VALUE=DATE:20260530
DTEND;VALUE=DATE:20260531
DTSTAMP:20260424T001632
CREATED:20260127T180156Z
LAST-MODIFIED:20260127T180156Z
UID:13766-1780099200-1780185599@artabros.org
SUMMARY:MONTAÑISMO EN FAMILIA - OLEIROS - 30 MAYO
DESCRIPTION:Carrera de liga gallega de orientación (Oleiros) Visita educativa / observación de aves CEIDA (Castillo de Santa Cruz). \nPróximanente más información.
URL:https://artabros.org/evento/montanismo-en-familia-oleiros-30-mayo/
CATEGORIES:Escalada,Espeleología,Infantiles,Orientación,Otras Actividades,Senderismo
ATTACH;FMTTYPE=image/jpeg:https://artabros.org/wp-content/uploads/2026/01/portada-montanismo-en-familia-1.jpg
END:VEVENT
BEGIN:VEVENT
DTSTART;TZID=Europe/Madrid:20260530T080000
DTEND;TZID=Europe/Madrid:20260530T170000
DTSTAMP:20260424T001632
CREATED:20260110T153411Z
LAST-MODIFIED:20260110T153411Z
UID:13560-1780128000-1780160400@artabros.org
SUMMARY:ORIENTACIÓN | 2ª Y 3ª PRUEBAS DE LA LIGA GALLEGA DE SPRINT Y 2ª PRUEBA DE LA LIGA GALLEGA DE TRAILO | Oleiros (A Coruña) | 30 mayo 2026
DESCRIPTION:El sábado 30 de mayo\, Ártabros\, junto con el Club Gallaecia Raid y el Club de Orientación Liceo\, organiza en Oleiros tres pruebas de la Liga Gallega de Orientación: la segunda y tercera pruebas de la Liga Gallega de Sprint y la segunda prueba de la Liga Gallega de Trail-O. Toda la información se irá publicando próximamente en la web de la Federación Gallega de Orientación.
URL:https://artabros.org/evento/orientacion-2a-y-3a-pruebas-de-la-liga-gallega-de-sprint-y-2a-prueba-de-la-liga-gallega-de-trailo-oleiros-a-coruna-30-mayo-2026/
CATEGORIES:Orientación
ATTACH;FMTTYPE=image/jpeg:https://artabros.org/wp-content/uploads/2026/01/portada-orientacion.jpg
END:VEVENT
END:VCALENDAR