BEGIN:VCALENDAR
VERSION:2.0
PRODID:-//Sociedad de Montaña Ártabros - ECPv6.15.17.1//NONSGML v1.0//EN
CALSCALE:GREGORIAN
METHOD:PUBLISH
X-WR-CALNAME:Sociedad de Montaña Ártabros
X-ORIGINAL-URL:https://artabros.org
X-WR-CALDESC:Eventos para Sociedad de Montaña Ártabros
REFRESH-INTERVAL;VALUE=DURATION:PT1H
X-Robots-Tag:noindex
X-PUBLISHED-TTL:PT1H
BEGIN:VTIMEZONE
TZID:Europe/Madrid
BEGIN:DAYLIGHT
TZOFFSETFROM:+0100
TZOFFSETTO:+0200
TZNAME:CEST
DTSTART:20240331T010000
END:DAYLIGHT
BEGIN:STANDARD
TZOFFSETFROM:+0200
TZOFFSETTO:+0100
TZNAME:CET
DTSTART:20241027T010000
END:STANDARD
BEGIN:DAYLIGHT
TZOFFSETFROM:+0100
TZOFFSETTO:+0200
TZNAME:CEST
DTSTART:20250330T010000
END:DAYLIGHT
BEGIN:STANDARD
TZOFFSETFROM:+0200
TZOFFSETTO:+0100
TZNAME:CET
DTSTART:20251026T010000
END:STANDARD
BEGIN:DAYLIGHT
TZOFFSETFROM:+0100
TZOFFSETTO:+0200
TZNAME:CEST
DTSTART:20260329T010000
END:DAYLIGHT
BEGIN:STANDARD
TZOFFSETFROM:+0200
TZOFFSETTO:+0100
TZNAME:CET
DTSTART:20261025T010000
END:STANDARD
END:VTIMEZONE
BEGIN:VEVENT
DTSTART;VALUE=DATE:20250531
DTEND;VALUE=DATE:20250602
DTSTAMP:20260424T190155
CREATED:20250514T151120Z
LAST-MODIFIED:20250514T151120Z
UID:12402-1748649600-1748822399@artabros.org
SUMMARY:CURSO DE INICIACIÓN Á ESPELEOLOXÍA - FEDERACIÓN GALEGA DE ESPELEOLOXÍA
DESCRIPTION:Queres iniciarte na espeleoloxía? Este é o teu curso! \nCurso de iniciación á espeleoloxía impartido pola Federación galega de Espeleoloxía. \nData: 24/25 maio 2025 e 31 maio-1 xuño 2025 \nToda a info aquí. Curso iniciación espeleo maio 2025 \nfolla de incripción \nAutorización menores
URL:https://artabros.org/evento/curso-de-iniciacion-a-espeleoloxia-federacion-galega-de-espeleoloxia/
CATEGORIES:Espeleología
ATTACH;FMTTYPE=image/jpeg:https://artabros.org/wp-content/uploads/2024/12/La-Pernia-2024-92-scaled.jpg
ORGANIZER;CN="Federaci%C3%B3n Gallega de Espeleolog%C3%ADa":MAILTO:espeleologia (@) gmail.com
END:VEVENT
BEGIN:VEVENT
DTSTART;VALUE=DATE:20250604
DTEND;VALUE=DATE:20250605
DTSTAMP:20260424T190155
CREATED:20250518T160647Z
LAST-MODIFIED:20250522T075929Z
UID:12410-1748995200-1749081599@artabros.org
SUMMARY:VETERANOS ACTIVOS | NOIA – PORTOSÍN – PORTO DO SON (A Coruña) | 4 DE XUÑO DE 2025
DESCRIPTION:En xuño\, os Veteranos Activos imos a ría de Noia e Muros\, para facer un fermoso roteiro pola costa\, visitando antes o casco antigo de Noia. Tedes toda a información neste documento \nDistancia:  12 km.\nDificultade técnica: baixa\nDificultade física:  baixa \nInscricións: WhatsApp: 623504771 \nClave para incluir no pago por transferencia:    71200471 \nConta: ES25-2080 5565 0030 4000 2362\nCusto de la actividade: Socios 12€    No socios 16€ \nSAIDA:  As 9 horas  de Riazor\, da parada de bus de Deportienda\, con recollida en Juan Flórez\, Alfonso Molina e Carrefour.
URL:https://artabros.org/evento/veteranos-activos-noia-portosin-porto-do-son-a-coruna-4-de-xuno-de-2025/
CATEGORIES:Senderismo,Veteranos Activos
ATTACH;FMTTYPE=image/jpeg:https://artabros.org/wp-content/uploads/2024/08/Hio-Costa-da-Vela.Vet_.Act_.13-3-2-2024-Veteranos-Activos-134-Cabecera-scaled.jpg
END:VEVENT
BEGIN:VEVENT
DTSTART;TZID=Europe/Madrid:20250607T080000
DTEND;TZID=Europe/Madrid:20250607T170000
DTSTAMP:20260424T190155
CREATED:20250415T182556Z
LAST-MODIFIED:20250415T182556Z
UID:12306-1749283200-1749315600@artabros.org
SUMMARY:ORIENTACIÓN | 2ª LIGA GALLEGA DE MTBO Y CAMPEONATO GALLEGO DE SPRINT DE MTBO | Ferrol (A Coruña) | 7 junio 2025
DESCRIPTION:El Club Gallaecia Raid organiza dos pruebas de MTBO el sábado 7 de junio en Ferrol (A Coruña). Por la mañana se disputará la 2ª prueba de la Liga Gallega de MTBO\, que será una carrera de distancia media\, y por la tarde el Campeonato Xunta de Galicia de Sprint de MTBO. \nLas inscripciones a cada una de las pruebas deben realizarse de manera independiente y estarán abiertas hasta las 23:50 del domingo 1 de junio. Para apuntarse\, las personas socias de Ártabros no federadas en orientación deben mandar un correo a alfonsomancera@gmail.com indicando nombre completo\, DNI\, fecha de nacimiento y categoría (iniciación corta o larga); mientras que los socios federados se inscribirán como es habitual a  través de la intranet de la FEGADO. \nLos últimos detalles de la prueba (horarios\, precios\, distancias\, información técnica…) se irán publicando en el evento correspondiente en la web de la Federación Galega de Orientación.
URL:https://artabros.org/evento/orientacion-2a-liga-gallega-de-mtbo-y-campeonato-gallego-de-sprint-de-mtbo-ferrol-a-coruna-7-junio-2025/
CATEGORIES:Orientación
ATTACH;FMTTYPE=image/jpeg:https://artabros.org/wp-content/uploads/2025/04/67eaa6b350-cartel-esmelle_page-0001.jpg
END:VEVENT
BEGIN:VEVENT
DTSTART;TZID=Europe/Madrid:20250607T120000
DTEND;TZID=Europe/Madrid:20250607T170000
DTSTAMP:20260424T190155
CREATED:20250421T202302Z
LAST-MODIFIED:20250421T202511Z
UID:12325-1749297600-1749315600@artabros.org
SUMMARY:MASC. Montañismo Aberto Sendeiros para a Comunidade
DESCRIPTION:XUÑO. PENDENTE DE DATA!! \nEtapa 2. Dende Sergude \nÚNETE AO EQUIPO NO CAMIÑO INGLÉS DENDE A CORUÑA! \nPARTICIPACIÓN ABERTA!! \n12:00 A 17:00 \n12:00 Saída dende Sergude. \n15:00 Sarandós. A orientación na montaña III. \n17:00 As Travesas. \nInformación: 636557491 \nXI Convocatoria Deporte Solidario e Inclusivo 2024-2025. \n*Actividade incusiva subvencionada pola Fundación Emalcsa e Deporte Solidario.
URL:https://artabros.org/evento/masc-montanismo-aberto-sendeiros-para-a-comunidade-3/
CATEGORIES:Empujando Sonrisas,Infantiles,Montaña,Otras Actividades,Senderismo
ATTACH;FMTTYPE=image/jpeg:https://artabros.org/wp-content/uploads/2025/04/WhatsApp-Image-2025-04-21-at-21.45.04.jpeg
ORGANIZER;CN="%C3%81rtabros":MAILTO:artabros@artabros.org
END:VEVENT
BEGIN:VEVENT
DTSTART;VALUE=DATE:20250608
DTEND;VALUE=DATE:20250609
DTSTAMP:20260424T190155
CREATED:20250128T172807Z
LAST-MODIFIED:20250508T084708Z
UID:11982-1749340800-1749427199@artabros.org
SUMMARY:COÑECE E CAMIÑA | ASCENSIÓN AO PICO TREMUZO-RUTA CARPINTEIROS DOS PES MOLLADOS- OUTES (A Coruña) | DOMINGO 8 DE XUÑO DE 2025
DESCRIPTION:En xuño o Coñece e Camiña vai a Serra de Outes. Faremos un variado roteiro de montaña e mar\, coa posibilidade de baño na praia de Broña\, onde faremos o xantar.Tedes toda información neste documento  \nDistancia:  17 km.\nDificultade técnica: Media\nDificultade física: Media \nInscricións: WhatsApp: 623504771 \nClave para incluir no pago por transferencia: 71200468 \nConta: ES25-2080 5565 0030 4000 2362\nCusto de la actividade: Socios 12€    No socios 16€ \nSAIDA:  As 8 horas  de Riazor\, da parada de bus de Deportienda. Con recollida en Juan Flórez\, Alfonso Molina e Carrefour. \ní
URL:https://artabros.org/evento/conece-e-camina-pico-tremuzo-ruta-carpinteiros-dos-pes-mollados-outes-a-coruna-domingo-8-de-xuno-de-2025/
CATEGORIES:Conoce y Camina,Senderismo
ATTACH;FMTTYPE=image/jpeg:https://artabros.org/wp-content/uploads/2024/08/Vimianzo-C.C.9-6-2024-33-Cabecera-scaled.jpg
ORGANIZER;CN="David":MAILTO:dasanti31@gmail.com
END:VEVENT
BEGIN:VEVENT
DTSTART;VALUE=DATE:20250611
DTEND;VALUE=DATE:20250613
DTSTAMP:20260424T190155
CREATED:20250514T092450Z
LAST-MODIFIED:20250514T092914Z
UID:12382-1749600000-1749772799@artabros.org
SUMMARY:VETERANOS ACTIVOS -  Celanova - 11 e 12 de Xuño
DESCRIPTION:En xullo os Veteranos Activos ímonos a Celanova con dúas andainas: \n* CAMIÑO DE SAN ROSENDO con final en Celanova.\n* VAL DO PACÍN (Entrimo). \nTedes toda a información da ruta aquí.Folleto \nHORA DE SAÍDA: 7:30 de Riazor coas paradas habituais.\nN⁰ de prazas: 55.\nHotel en Celanova: ALQUIMIA\, almorzo e cea incluidos no prezo.\nIMPORTANTE: No WhatsApp de inscripción débese facer constar a opción para a cea:\n* Codillo ó forno.\n* Merluza \nAs inscripcións EXCLUSIVAMENTE por WhatsApp (623504771) \nSocios (hata o 31 de Maio): 110 €. \nNon socios (Do 1 ao 7 de xuño): 130€. \nCÓDIGO da ACTIVIDADE: 71200470 \nConta: ES25-2080 5565 0030 4000 2362
URL:https://artabros.org/evento/veteranos-activos-celanova-11-e-12-de-xuno/
CATEGORIES:Senderismo,Veteranos Activos
ATTACH;FMTTYPE=image/jpeg:https://artabros.org/wp-content/uploads/2024/02/VeteranosActivos.jpg
ORGANIZER;CN="%C3%81rtabros":MAILTO:artabros@artabros.org
END:VEVENT
BEGIN:VEVENT
DTSTART;VALUE=DATE:20250613
DTEND;VALUE=DATE:20250616
DTSTAMP:20260424T190155
CREATED:20250514T140345Z
LAST-MODIFIED:20250514T140345Z
UID:12391-1749772800-1750031999@artabros.org
SUMMARY:MONTAÑISMO CLÁSICO - VALLE DE FORNELA (LEÓN) - 13\, 14 y 15 de Junio
DESCRIPTION:El valle de Fornela\, situado en la comarca del Bierzo (León) y dentro de la Reserva Nacional de la Sierra de Ancares\, está rodeado por altas montañas que alcanzan los 2.000 metros de altitud. Recorrido por el río Cúa\, destaca por su paisaje montañoso\, su vegetación autóctona y la presencia de fauna como el oso pardo. A pesar de una fuerte despoblación\, muchos emigrantes regresan en verano\, reflejando su\narraigo. Gracias al ecoturismo y ayudas públicas\, la zona empieza arecuperarse económicamente\, aunque sigue siendo vulnerable. \nActividades:\nHaremos dos actividades montañeras. La primera será el sábado donde subiremos al Peña Rogueira con 18 km de distancia y 1026 m de desnivel. El domingo subiremos al Teso Mular con 17km de distancia y 950m de desnivel. \nInformación e inscripciones:\nTel: 623504771 / 609206207\nMail: artabros@artabros.org \nPlazas: 14 plazas disponibles \nPrecio: Socios 60€. No Socios 75€\n❖ El precio no incluye las cenas\, para cenar se irá al restaurante/palloza de Chano.\nA corte del toro \nClave para incluir en el pago por transferencia:\nCuenta: ES25-2080 5565 0030 4000 2362 \nDesplazamiento:\nEn coches particulares\, también se hará un grupo de whatsapp para organizarnos. Se debe estar en el ayuntamiento de Peranzanes donde estará el alojamiento antes de las 21:00 h del viernes 13 de junio. \nOrganizador:\nNolo Esmoris – nolodelnorte@gmail.com\nToda la informacion aqui
URL:https://artabros.org/evento/montanismo-clasico-valle-de-fornela-leon-13-14-y-15-de-junio/
CATEGORIES:Montaña
ATTACH;FMTTYPE=image/jpeg:https://artabros.org/wp-content/uploads/2025/05/WhatsApp-Image-2025-05-14-at-15.56.39.jpeg
ORGANIZER;CN="%C3%81rtabros":MAILTO:artabros@artabros.org
END:VEVENT
BEGIN:VEVENT
DTSTART;TZID=Europe/Madrid:20250620T080000
DTEND;TZID=Europe/Madrid:20250622T170000
DTSTAMP:20260424T190155
CREATED:20250415T184117Z
LAST-MODIFIED:20250415T184117Z
UID:12309-1750406400-1750611600@artabros.org
SUMMARY:ORIENTACIÓN | CAMPEONATO DE ESPAÑA DE SELECCIONES AUTONÓMICAS EN EDAD ESCOLAR (CESA) | Santiago de Compostela (A Coruña) | 20-22 junio 2025
DESCRIPTION:La Federación Galega de Orientación organiza entre el 20 y el 22 de junio el Campeonato de España de Selecciones Autonómicas en edad escolar de orientación\, que se celebrará en Santiago de Compostela (A Coruña). \nEl evento estará formado por una prueba de distancia larga\, otra de Trail-O\, distancia media\, sprint y relevos y reunirá a jóvenes de toda España (nacidos entre los años 2007-2012)\, que pondrán a prueba su capacidad de orientación en terrenos gallegos\, combinando deporte\, estrategia y naturaleza en un marco histórico y cultural. \nLas inscripciones deben realizarse por parte de los responsables técnicos siguiendo las indicaciones de la web de la prueba y contactando por correo electrónico con escolaruniversitario@fegado.es antes del 29 de mayo \nLos últimos detalles de la prueba (horarios\, precios\, distancias\, información técnica…) se irán publicando en la web de la Federación Galega de Orientación.
URL:https://artabros.org/evento/orientacion-campeonato-de-espana-de-selecciones-autonomicas-en-edad-escolar-cesa-santiago-de-compostela-a-coruna-20-22-junio-2025/
CATEGORIES:Orientación
ATTACH;FMTTYPE=image/jpeg:https://artabros.org/wp-content/uploads/2025/04/67d8ac46e4-whatsapp-image-2025-03-17-at-18.32.02.jpeg
END:VEVENT
BEGIN:VEVENT
DTSTART;TZID=Europe/Madrid:20250627T170000
DTEND;TZID=Europe/Madrid:20250629T210000
DTSTAMP:20260424T190155
CREATED:20250128T190959Z
LAST-MODIFIED:20250522T075837Z
UID:12006-1751043600-1751230800@artabros.org
SUMMARY:SENDERISMO DE MONTAÑA EN LOS PICOS DE EUROPA -  RIAÑO (León) | DEL 27 AL 29 DE JUNIO DE 2025
DESCRIPTION:Este año\, tampoco faltamos a la cita con estas montañas\, que son de visita obligada para cualquiera que quiera conocer las más bellas de España. \nEn esta ocasión vamos a Riaño\, con buen acceso a cualquiera de sus tres macizos\, y con zonas de media montaña si el tiempo no es lo suficientemente bueno. \nNos alojaremos en el Hostal Sainz en el pueblo de Riaño. Tenéis toda la información en este documento. \nCOSTE INSCRIPCIÓN: \nSocios en habitación doble\, en régimen de media pensión:  190€. \nSocios en habitación doble\, en uso individual con media pensión:  230€ \nNo socios:  Recargo de 20€ en los dos casos. \nCLAVE ACTIVIDAD:  71200469 \nCUENTA DE INGRESO: ES25-2080 5565 0030 4000 2362 \nSALIDA: Viernes 27 de junio\, de Riazor (parada de bus Deportienda)\, a las 17 horas. Hay que estar 10 minutos antes para cargar maletas y pasar lista. Paradas en Alfonso Molina y Carrefour. \nREGRESO: Domingo 29 después de comer.  Calculamos llegar a casa sobre las 21—22 horas\, con las mismas paradas.
URL:https://artabros.org/evento/senderismo-de-montana-riano-leon-del-27-al-29-de-junio-de-2025/
CATEGORIES:Otras Actividades,Senderismo
ATTACH;FMTTYPE=image/jpeg:https://artabros.org/wp-content/uploads/2025/01/ok-que-visitar-en-riano.jpg
ORGANIZER;CN="David":MAILTO:dasanti31@gmail.com
END:VEVENT
BEGIN:VEVENT
DTSTART;TZID=Europe/Madrid:20250630T080000
DTEND;TZID=Europe/Madrid:20250704T140000
DTSTAMP:20260424T190155
CREATED:20250514T083740Z
LAST-MODIFIED:20250514T090112Z
UID:12378-1751270400-1751637600@artabros.org
SUMMARY:CAMPAMENTO URBÁN 2025 - DO 30 XUÑO Ó 4 XULLO
DESCRIPTION:NOVO CAMPAMENTO URBÁN ÁRTABROS!! \nActividades de orientación\, escalada con corda no rocódromo de  Riazor e escalada no noso rocódromo\, bautismo de buceo na piscina do club do mar de San Amaro\, roteiros e xogos infantís no noso novo local reformado e no entorno da Torre de Hércules! \n\nDatas: De luns 30 de xuño a venres 4 de xullo.\nIdades: 7 a 13 anos (16 prazas).\nPunto de encontro: Local de Ártabros (Rúa Santa Teresa 14 baixo).\nPrezos: Socios 95€\, non socios 115€.\nHorario: De 09:00h a 14:00h.\nMadrugadores: Dende as 08:00h (+15€).\nSocios con máis dun fillo\, terán un 10% de desconto a partir do segundo fillo inscrito.\nInfo e inscripcións: Teléfono/wassap 623 5047 71 ou na nosa oficina no seu horario de atención ó publico (de luns a xoves de 20:00h. 22:00h.\, telefónica e presencial\, e venres de 20:00h. a 22:00h.\, só telefónica). 
URL:https://artabros.org/evento/campamento-urban-2025-do-30-xuno-o-4-xullo/
CATEGORIES:Escalada,Espeleología,Infantiles,Montaña,Orientación,Otras Actividades,Senderismo
ATTACH;FMTTYPE=image/png:https://artabros.org/wp-content/uploads/2025/05/campamento-urbano-2025-1.png
ORGANIZER;CN="%C3%81rtabros":MAILTO:artabros@artabros.org
END:VEVENT
END:VCALENDAR