BEGIN:VCALENDAR
VERSION:2.0
PRODID:-//Sociedad de Montaña Ártabros - ECPv6.15.17.1//NONSGML v1.0//EN
CALSCALE:GREGORIAN
METHOD:PUBLISH
X-WR-CALNAME:Sociedad de Montaña Ártabros
X-ORIGINAL-URL:https://artabros.org
X-WR-CALDESC:Eventos para Sociedad de Montaña Ártabros
REFRESH-INTERVAL;VALUE=DURATION:PT1H
X-Robots-Tag:noindex
X-PUBLISHED-TTL:PT1H
BEGIN:VTIMEZONE
TZID:Europe/Madrid
BEGIN:DAYLIGHT
TZOFFSETFROM:+0100
TZOFFSETTO:+0200
TZNAME:CEST
DTSTART:20230326T010000
END:DAYLIGHT
BEGIN:STANDARD
TZOFFSETFROM:+0200
TZOFFSETTO:+0100
TZNAME:CET
DTSTART:20231029T010000
END:STANDARD
BEGIN:DAYLIGHT
TZOFFSETFROM:+0100
TZOFFSETTO:+0200
TZNAME:CEST
DTSTART:20240331T010000
END:DAYLIGHT
BEGIN:STANDARD
TZOFFSETFROM:+0200
TZOFFSETTO:+0100
TZNAME:CET
DTSTART:20241027T010000
END:STANDARD
BEGIN:DAYLIGHT
TZOFFSETFROM:+0100
TZOFFSETTO:+0200
TZNAME:CEST
DTSTART:20250330T010000
END:DAYLIGHT
BEGIN:STANDARD
TZOFFSETFROM:+0200
TZOFFSETTO:+0100
TZNAME:CET
DTSTART:20251026T010000
END:STANDARD
END:VTIMEZONE
BEGIN:VEVENT
DTSTART;VALUE=DATE:20240925
DTEND;VALUE=DATE:20240926
DTSTAMP:20260420T195046
CREATED:20240827T180707Z
LAST-MODIFIED:20240924T082534Z
UID:10940-1727222400-1727308799@artabros.org
SUMMARY:VETERANOS ACTIVOS | Ruta da Auga - Zas (A Coruña) | Mércores  25 de setembro de  2024
DESCRIPTION:SUSPENDIDA POR MAL TEMPO. ANUNCIAREMOS A NOVA DATA \nTedes información detallada aquí \nDistancia: 12 km.\nDificultade técnica: Baixa\nDificultade física: Baixa \nInformacións e inscricións: Tel. /WhatsApp: 623504771 / email: artabros@artabros.org \nClave para incluír no pago por transferencia:  71200446 \nConta: ES25-2080 5565 0030 4000 2362\nCusto dá actividade: Socios 12€ Non socios 16€ \nSaída   MÉRCORES as 9\,00 horas do Pavillón de Deportes de Riazor\, con paradas en Xoan Flórez\, Alfonso Molina e Carrefour.
URL:https://artabros.org/evento/veteranos-activos-ruta-da-auga-zas-a-coruna-mercores-25-de-setembro-de-2024/
CATEGORIES:Senderismo,Veteranos Activos
ATTACH;FMTTYPE=image/jpeg:https://artabros.org/wp-content/uploads/2024/08/Hio-Costa-da-Vela.Vet_.Act_.13-3-2-2024-Veteranos-Activos-134-Cabecera-scaled.jpg
END:VEVENT
END:VCALENDAR