BEGIN:VCALENDAR
VERSION:2.0
PRODID:-//Sociedad de Montaña Ártabros - ECPv6.15.17.1//NONSGML v1.0//EN
CALSCALE:GREGORIAN
METHOD:PUBLISH
X-WR-CALNAME:Sociedad de Montaña Ártabros
X-ORIGINAL-URL:https://artabros.org
X-WR-CALDESC:Eventos para Sociedad de Montaña Ártabros
REFRESH-INTERVAL;VALUE=DURATION:PT1H
X-Robots-Tag:noindex
X-PUBLISHED-TTL:PT1H
BEGIN:VTIMEZONE
TZID:Europe/Madrid
BEGIN:DAYLIGHT
TZOFFSETFROM:+0100
TZOFFSETTO:+0200
TZNAME:CEST
DTSTART:20230326T010000
END:DAYLIGHT
BEGIN:STANDARD
TZOFFSETFROM:+0200
TZOFFSETTO:+0100
TZNAME:CET
DTSTART:20231029T010000
END:STANDARD
BEGIN:DAYLIGHT
TZOFFSETFROM:+0100
TZOFFSETTO:+0200
TZNAME:CEST
DTSTART:20240331T010000
END:DAYLIGHT
BEGIN:STANDARD
TZOFFSETFROM:+0200
TZOFFSETTO:+0100
TZNAME:CET
DTSTART:20241027T010000
END:STANDARD
BEGIN:DAYLIGHT
TZOFFSETFROM:+0100
TZOFFSETTO:+0200
TZNAME:CEST
DTSTART:20250330T010000
END:DAYLIGHT
BEGIN:STANDARD
TZOFFSETFROM:+0200
TZOFFSETTO:+0100
TZNAME:CET
DTSTART:20251026T010000
END:STANDARD
END:VTIMEZONE
BEGIN:VEVENT
DTSTART;VALUE=DATE:20240424
DTEND;VALUE=DATE:20240425
DTSTAMP:20260421T044625
CREATED:20240404T083658Z
LAST-MODIFIED:20240805T095903Z
UID:9610-1713916800-1714003199@artabros.org
SUMMARY:VETERANOS ACTIVOS. Ruta de Castro Doade PR-G 210 Lalín (Pontevedra). Visita Museo de Casas do Patrón |  24 abril 2024
DESCRIPTION:Na segunda ruta de abril de Veteranos Activos\, voltamos a terras do Deza-Lalín (Pontevedra)\, para coñecer a zona de Castro Doade\, e facer pola mañá parte dá ruta oficial PR-G 210. Pola tarde visitaremos o museo etnográfico de Casa do Patrón\, en Codeseda. \nTedes toda a información AQUÍ \nDistancia: 11\,30  km. Desnivel acumulado de subida: 191 m\, de baixada 208 m.\nDificultade técnica: Baixa\nDificultade física: Baixa \nRuta apta para marcha nórdica. \nInformacións e inscricións: \nTel. 981 213115 / wassap: 623504771 / email: artabros@artabros.org \n\nClave para incluir no pago por transferencia: 71200433\nConta: ES25-2080  5565 0030 4000 2362\n\nCusto da actividade:  Socios 12€+5€ entrada museo: 17€   Non socios 16€+5€ entrada museo: 21€ \nSaída MÉRCORES as 9\,00 horas do Pabellón de Deportes de Riazor\, con paradas en Xoan Flórez\, Alfonso Molina e Carrefour.
URL:https://artabros.org/evento/veteranos-activos-ruta-de-casto-doade-pr-g-210-lalin-pontevedra-visita-ao-museo-de-casa-do-patron-mercores-24-de-abril-de-2024/
CATEGORIES:Senderismo,Veteranos Activos
ATTACH;FMTTYPE=image/jpeg:https://artabros.org/wp-content/uploads/2024/02/VeteranosActivos.jpg
ORGANIZER;CN="%C3%81rtabros":MAILTO:artabros@artabros.org
END:VEVENT
END:VCALENDAR