BEGIN:VCALENDAR
VERSION:2.0
PRODID:-//Sociedad de Montaña Ártabros - ECPv6.15.17.1//NONSGML v1.0//EN
CALSCALE:GREGORIAN
METHOD:PUBLISH
X-WR-CALNAME:Sociedad de Montaña Ártabros
X-ORIGINAL-URL:https://artabros.org
X-WR-CALDESC:Eventos para Sociedad de Montaña Ártabros
REFRESH-INTERVAL;VALUE=DURATION:PT1H
X-Robots-Tag:noindex
X-PUBLISHED-TTL:PT1H
BEGIN:VTIMEZONE
TZID:Europe/Madrid
BEGIN:DAYLIGHT
TZOFFSETFROM:+0100
TZOFFSETTO:+0200
TZNAME:CEST
DTSTART:20230326T010000
END:DAYLIGHT
BEGIN:STANDARD
TZOFFSETFROM:+0200
TZOFFSETTO:+0100
TZNAME:CET
DTSTART:20231029T010000
END:STANDARD
BEGIN:DAYLIGHT
TZOFFSETFROM:+0100
TZOFFSETTO:+0200
TZNAME:CEST
DTSTART:20240331T010000
END:DAYLIGHT
BEGIN:STANDARD
TZOFFSETFROM:+0200
TZOFFSETTO:+0100
TZNAME:CET
DTSTART:20241027T010000
END:STANDARD
BEGIN:DAYLIGHT
TZOFFSETFROM:+0100
TZOFFSETTO:+0200
TZNAME:CEST
DTSTART:20250330T010000
END:DAYLIGHT
BEGIN:STANDARD
TZOFFSETFROM:+0200
TZOFFSETTO:+0100
TZNAME:CET
DTSTART:20251026T010000
END:STANDARD
END:VTIMEZONE
BEGIN:VEVENT
DTSTART;VALUE=DATE:20240403
DTEND;VALUE=DATE:20240404
DTSTAMP:20260421T044625
CREATED:20240312T102046Z
LAST-MODIFIED:20240805T101504Z
UID:9541-1712102400-1712188799@artabros.org
SUMMARY:VETERANOS ACTIVOS | Senda litoral do Río Ulla – Catoira (Pontevedra) | 13 abril 2024
DESCRIPTION:En abril os Veteranos Activos imos visitar Catoira\, para coñecer as Torres de Oeste e camiñar pola Senda Litoral do río Ulla. A ruta coincide en gran parte coa etapa nº 7 do Camiño Xacobeo do Pai Sarmiento. \nPola proximidade dá ruta coa Semana Santa\, abrimos hoxe a inscrición. \nTedes toda a información AQUÍ \nDistancia: 11 km. Desnivel acumulado de subida: 210 m\nDificultade técnica: Baixa\nDificultade física: Baixa \nRuta apta para marcha nórdica. \nInformacións e inscricións: Tel. 981 213115 / correo: artabros@artabros.org \n\nClave para incluir no pago por transferencia: 71200431\nConta: ES25-2080  5565 0030 4000 2362\n\nCusto da actividade:  Socios 12€   Non socios 16€ \nSaída MÉRCORES as 9\,00 horas do Pabellón de Deportes de Riazor\, con paradas en Xoan Flórez\, Alfonso Molina e Carrefour. \n 
URL:https://artabros.org/evento/veteranos-activos-senda-litoral-do-rio-ulla-catoira-pontevedra-mercores-13-de-abril-de-2024/
CATEGORIES:Senderismo,Veteranos Activos
ATTACH;FMTTYPE=image/jpeg:https://artabros.org/wp-content/uploads/2024/02/VeteranosActivos.jpg
ORGANIZER;CN="%C3%81rtabros":MAILTO:artabros@artabros.org
END:VEVENT
END:VCALENDAR