BEGIN:VCALENDAR
VERSION:2.0
PRODID:-//Sociedad de Montaña Ártabros - ECPv6.15.17.1//NONSGML v1.0//EN
CALSCALE:GREGORIAN
METHOD:PUBLISH
X-WR-CALNAME:Sociedad de Montaña Ártabros
X-ORIGINAL-URL:https://artabros.org
X-WR-CALDESC:Eventos para Sociedad de Montaña Ártabros
REFRESH-INTERVAL;VALUE=DURATION:PT1H
X-Robots-Tag:noindex
X-PUBLISHED-TTL:PT1H
BEGIN:VTIMEZONE
TZID:Europe/Madrid
BEGIN:DAYLIGHT
TZOFFSETFROM:+0100
TZOFFSETTO:+0200
TZNAME:CEST
DTSTART:20230326T010000
END:DAYLIGHT
BEGIN:STANDARD
TZOFFSETFROM:+0200
TZOFFSETTO:+0100
TZNAME:CET
DTSTART:20231029T010000
END:STANDARD
BEGIN:DAYLIGHT
TZOFFSETFROM:+0100
TZOFFSETTO:+0200
TZNAME:CEST
DTSTART:20240331T010000
END:DAYLIGHT
BEGIN:STANDARD
TZOFFSETFROM:+0200
TZOFFSETTO:+0100
TZNAME:CET
DTSTART:20241027T010000
END:STANDARD
BEGIN:DAYLIGHT
TZOFFSETFROM:+0100
TZOFFSETTO:+0200
TZNAME:CEST
DTSTART:20250330T010000
END:DAYLIGHT
BEGIN:STANDARD
TZOFFSETFROM:+0200
TZOFFSETTO:+0100
TZNAME:CET
DTSTART:20251026T010000
END:STANDARD
END:VTIMEZONE
BEGIN:VEVENT
DTSTART;VALUE=DATE:20240710
DTEND;VALUE=DATE:20240711
DTSTAMP:20260420T213820
CREATED:20240709T143839Z
LAST-MODIFIED:20240805T100720Z
UID:9791-1720569600-1720655999@artabros.org
SUMMARY:VETERANOS ACTIVOS | Esteiro do Miño - Senda Fluvial río Miño - Tamuxe - O Roxal (Pontevedra) | 10 de xullo 2024
DESCRIPTION:En xullo os Veteranos Activos ímonos ao Roxal\, na Raia\, a beira do río Miño e ou seu afluente Tamuxe. Camiñaremos por unha preciosa senda de pescadores. No lugar de As  Aceñas\, poderemos tomar un relaxante baño e gozar dun vrao adiantado. Tedes toda a información AQUÍ \nDistancia: 12 km. Desnivel acumulado: inapreciable\nDificultade técnica: Baixa\nDificultade física: Baixa \nRuta  apta para marcha nórdica. \nInformacións e inscricións: Tel. /WhatsApp: 623504771 / email: artabros@artabros.org \nClave para incluír non pago por transferencia: 71200442 . \nConta: ES25-2080 5565 0030 4000 2362\nCusto dá actividade: Socios 12€ Non socios 16€ \nSaída   MÉRCORES as 8\,00 horas do Pavillón de Deportes de Riazor\, con paradas en Xoan Flórez\, Alfonso Molina e Carrefour.
URL:https://artabros.org/evento/veteranos-activos-esteiro-do-mino-senda-fluvial-do-rio-mino-tamuxe-o-roxalpontevedra-mercores-10-de-xullo-de-2024/
CATEGORIES:Senderismo,Veteranos Activos
ATTACH;FMTTYPE=image/jpeg:https://artabros.org/wp-content/uploads/2024/02/VeteranosActivos.jpg
END:VEVENT
END:VCALENDAR