BEGIN:VCALENDAR
VERSION:2.0
PRODID:-//Sociedad de Montaña Ártabros - ECPv6.15.17.1//NONSGML v1.0//EN
CALSCALE:GREGORIAN
METHOD:PUBLISH
X-ORIGINAL-URL:https://artabros.org
X-WR-CALDESC:Eventos para Sociedad de Montaña Ártabros
REFRESH-INTERVAL;VALUE=DURATION:PT1H
X-Robots-Tag:noindex
X-PUBLISHED-TTL:PT1H
BEGIN:VTIMEZONE
TZID:Europe/Madrid
BEGIN:DAYLIGHT
TZOFFSETFROM:+0100
TZOFFSETTO:+0200
TZNAME:CEST
DTSTART:20230326T010000
END:DAYLIGHT
BEGIN:STANDARD
TZOFFSETFROM:+0200
TZOFFSETTO:+0100
TZNAME:CET
DTSTART:20231029T010000
END:STANDARD
BEGIN:DAYLIGHT
TZOFFSETFROM:+0100
TZOFFSETTO:+0200
TZNAME:CEST
DTSTART:20240331T010000
END:DAYLIGHT
BEGIN:STANDARD
TZOFFSETFROM:+0200
TZOFFSETTO:+0100
TZNAME:CET
DTSTART:20241027T010000
END:STANDARD
BEGIN:DAYLIGHT
TZOFFSETFROM:+0100
TZOFFSETTO:+0200
TZNAME:CEST
DTSTART:20250330T010000
END:DAYLIGHT
BEGIN:STANDARD
TZOFFSETFROM:+0200
TZOFFSETTO:+0100
TZNAME:CET
DTSTART:20251026T010000
END:STANDARD
END:VTIMEZONE
BEGIN:VEVENT
DTSTART;VALUE=DATE:20240515
DTEND;VALUE=DATE:20240516
DTSTAMP:20260421T011932
CREATED:20240425T193550Z
LAST-MODIFIED:20240805T101026Z
UID:9691-1715731200-1715817599@artabros.org
SUMMARY:VETERANOS ACTIVOS | Muiños do Río Lona - Pereiro de Aguiar (Ourense) | 15 de Maio 2024
DESCRIPTION:En maio os Veteranos Activos imos a Ourense\, para facer unha ruta por Pereiro de Aguiar. Xa estivemos no Coñece e Camiña\, pero nunca fixemos esta preciosa ruta dos Muiños do río Loña. \nTedes toda información AQUÍ \nDistancia: 10\,8  km. Desnivel acumulado de subida: 161 m\, de baixada 100 m.\nDificultade técnica: Baixa\nDificultade física: Baixa \nRuta apta para marcha nórdica. \nInformacións e inscricións: \nTel. 981 213115 / wassap: 623504771 / email: artabros@artabros.org \n\nClave para incluir no pago por transferencia: 71200436\nConta: ES25-2080  5565 0030 4000 2362\n\nCusto da actividade:  Socios 12€   Non socios 16€ \nSaída MÉRCORES as 9\,00 horas do Pabellón de Deportes de Riazor\, con paradas en Xoan Flórez\, Alfonso Molina e Carrefour. \n\n\n 
URL:https://artabros.org/evento/veteranos-activos-muinos-do-rio-lona-pereiro-de-aguiar-ourense-mercores-15-de-maio-de-2024/
CATEGORIES:Senderismo,Veteranos Activos
ATTACH;FMTTYPE=image/jpeg:https://artabros.org/wp-content/uploads/2024/02/VeteranosActivos.jpg
ORGANIZER;CN="%C3%81rtabros":MAILTO:artabros@artabros.org
END:VEVENT
BEGIN:VEVENT
DTSTART;TZID=Europe/Madrid:20240528T080000
DTEND;TZID=Europe/Madrid:20240529T170000
DTSTAMP:20260421T011932
CREATED:20240226T131819Z
LAST-MODIFIED:20240805T100842Z
UID:9515-1716883200-1717002000@artabros.org
SUMMARY:VETERANOS ACTIVOS  | Couto Mixto - Foxo do Lobo de Guende - Aquis Querquennis | 28-29 Maio 2024
DESCRIPTION:Nesta andaina de maio achegarémonos ao COUTO MIXTO\, ao sur da Provincia de Ourense. Trátase dun territorio cunha historia abraiante xa que foi a primeira República Democrática europea durante mais de 720 anos\, dende 1143 ata 1864\, nunha época medieval de Reises e Sres. Feudáis  totalmente afastados do que ven sendo un sistema democrático.   Percorreremos os dez km do CAMIÑO PRIVILEXIADO dende O Couto Mixto ata Tourem en Portugal. \nFaremos noite en Celanova e o seguinte día visitaremos o FOXO DO LOBO DE GUENDE e xa de volta teremos unha visita guiada ao Campamento Romano de AQUIS QUERQUENNIS. \nTedes todos os datos  neste documento:  https://artabros.org/wp-content/uploads/2024/02/Vet.Activ_.28-29-maio.pdf \nInscrición:  Socios: 95€   Non socios:  115€  (50% no momento de anotarse\, ate ó 2 de maio) \nConta Ártabros:  ES25-2080  5565 0030 4000 2362 \nCódigo dá actividade: 71200428 \nComa sempre\, primeiro hai que solicitar a praza. Cando estea confirmada\, faise o ingreso. \nSaida:  8 horas\, Praza Casares Quiroga.  Úneca parada en Carrefour.
URL:https://artabros.org/evento/veteranos-activos-couto-mixto-foxo-do-lobo-de-guende-aquis-querquennis-29-30-maio-2024/
CATEGORIES:Senderismo,Veteranos Activos
ATTACH;FMTTYPE=image/jpeg:https://artabros.org/wp-content/uploads/2024/02/VeteranosActivos.jpg
ORGANIZER;CN="%C3%81rtabros":MAILTO:artabros@artabros.org
END:VEVENT
END:VCALENDAR