BEGIN:VCALENDAR
VERSION:2.0
PRODID:-//Sociedad de Montaña Ártabros - ECPv6.15.17.1//NONSGML v1.0//EN
CALSCALE:GREGORIAN
METHOD:PUBLISH
X-ORIGINAL-URL:https://artabros.org
X-WR-CALDESC:Eventos para Sociedad de Montaña Ártabros
REFRESH-INTERVAL;VALUE=DURATION:PT1H
X-Robots-Tag:noindex
X-PUBLISHED-TTL:PT1H
BEGIN:VTIMEZONE
TZID:Europe/Madrid
BEGIN:DAYLIGHT
TZOFFSETFROM:+0100
TZOFFSETTO:+0200
TZNAME:CEST
DTSTART:20230326T010000
END:DAYLIGHT
BEGIN:STANDARD
TZOFFSETFROM:+0200
TZOFFSETTO:+0100
TZNAME:CET
DTSTART:20231029T010000
END:STANDARD
BEGIN:DAYLIGHT
TZOFFSETFROM:+0100
TZOFFSETTO:+0200
TZNAME:CEST
DTSTART:20240331T010000
END:DAYLIGHT
BEGIN:STANDARD
TZOFFSETFROM:+0200
TZOFFSETTO:+0100
TZNAME:CET
DTSTART:20241027T010000
END:STANDARD
BEGIN:DAYLIGHT
TZOFFSETFROM:+0100
TZOFFSETTO:+0200
TZNAME:CEST
DTSTART:20250330T010000
END:DAYLIGHT
BEGIN:STANDARD
TZOFFSETFROM:+0200
TZOFFSETTO:+0100
TZNAME:CET
DTSTART:20251026T010000
END:STANDARD
END:VTIMEZONE
BEGIN:VEVENT
DTSTART;VALUE=DATE:20240313
DTEND;VALUE=DATE:20240314
DTSTAMP:20260421T044645
CREATED:20240224T193543Z
LAST-MODIFIED:20240805T103306Z
UID:9503-1710288000-1710374399@artabros.org
SUMMARY:VETERANOS ACTIVOS | Hío – Cabo Home – Costa da vela (Pontevedra) | 13 marzo 2024
DESCRIPTION:Na andaina do mes de marzo percorreremos A Costa da Vela\, ao oeste da provincia de Pontevedra\, o punto máis occidental da península do Morrazo que separa as rías de Vigo e Pontevedra.  Este é un lugar privilexiado que forma parte da Rede Natura 2000 e desde onde podemos gozar da espectacular beleza dos cantís de Donón e as vistas dos arquipélagos de Cíes e Ons. \nVisitaremos a igrexa\, o cruceiro e a casa reitoral do Hío. Xunto co patrimonio natural da zona atoparemos os restos arqueolóxicos no Monte do Facho con evidencia da presenza humana en distintas  épocas da nosa historia. \nTedes toda a información neste documento:  https://artabros.org/wp-content/uploads/2024/02/Hio-Cabo-Home-Vet.Act_.-13-3-2024-vf.pdf \nDistancia: 9\,10 km. Desnivel: 199 m\nDificultade técnica: Baixa\nDificultade física: Baixa \nRuta apta para marcha nórdica. \nVisita a Reitoral de Hío. Levade 1€ para entrada. \nSaída as 9 horas do Pavillón de Deportes de Riazor\, paradas en Juan Flórez\, Alfonso Molina e Carrefour. \nInformacións e inscricións: Tel. 981 213115 / correo: artabros@artabros.org \n\nClave para incluir no por transferencia: 71200429\nConta: ES25-2080  5565 0030 4000 2362\n\nCusto da actividade:  Socios 12€   Non socios 16€ \nSalida  MÉRCORES  a las  9\,00 horas del Pabellón de Deportes de Riazor\, con paradas en Juan Flórez\, Alfonso Molina y Carrefour \nNon pararemos para tomar café porque a viaxe é bastante longa. \n 
URL:https://artabros.org/evento/veteranos-activos-hio-cabo-home-costa-da-vela-pontevedra-mercores-13-de-marzal-de-2024/
CATEGORIES:Senderismo,Veteranos Activos
ATTACH;FMTTYPE=image/jpeg:https://artabros.org/wp-content/uploads/2024/02/VeteranosActivos.jpg
ORGANIZER;CN="%C3%81rtabros":MAILTO:artabros@artabros.org
END:VEVENT
END:VCALENDAR