BEGIN:VCALENDAR
VERSION:2.0
PRODID:-//Sociedad de Montaña Ártabros - ECPv6.15.17.1//NONSGML v1.0//EN
CALSCALE:GREGORIAN
METHOD:PUBLISH
X-ORIGINAL-URL:https://artabros.org
X-WR-CALDESC:Eventos para Sociedad de Montaña Ártabros
REFRESH-INTERVAL;VALUE=DURATION:PT1H
X-Robots-Tag:noindex
X-PUBLISHED-TTL:PT1H
BEGIN:VTIMEZONE
TZID:Europe/Madrid
BEGIN:DAYLIGHT
TZOFFSETFROM:+0100
TZOFFSETTO:+0200
TZNAME:CEST
DTSTART:20240331T010000
END:DAYLIGHT
BEGIN:STANDARD
TZOFFSETFROM:+0200
TZOFFSETTO:+0100
TZNAME:CET
DTSTART:20241027T010000
END:STANDARD
BEGIN:DAYLIGHT
TZOFFSETFROM:+0100
TZOFFSETTO:+0200
TZNAME:CEST
DTSTART:20250330T010000
END:DAYLIGHT
BEGIN:STANDARD
TZOFFSETFROM:+0200
TZOFFSETTO:+0100
TZNAME:CET
DTSTART:20251026T010000
END:STANDARD
BEGIN:DAYLIGHT
TZOFFSETFROM:+0100
TZOFFSETTO:+0200
TZNAME:CEST
DTSTART:20260329T010000
END:DAYLIGHT
BEGIN:STANDARD
TZOFFSETFROM:+0200
TZOFFSETTO:+0100
TZNAME:CET
DTSTART:20261025T010000
END:STANDARD
END:VTIMEZONE
BEGIN:VEVENT
DTSTART;TZID=Europe/Madrid:20250416T080000
DTEND;TZID=Europe/Madrid:20250420T170000
DTSTAMP:20260419T170504
CREATED:20241228T205421Z
LAST-MODIFIED:20250224T171515Z
UID:11771-1744790400-1745168400@artabros.org
SUMMARY:SENDERISMO  EN EL ALTO BERNESGA – LA POLA DE GORDÓN (León) | DEL 16 AL 20 DE ABRIL DE 2025
DESCRIPTION:      Esta Semana Santa nos vamos a la montaña leonesa del Puerto de Pajares – La Tercia. Conoceremos   sus valles y montañas más atractivos para el senderismo de montaña.  Haremos base en un hostal de  La Pola de Gordón (León). Tenéis toda la información pinchando AQUÍ.\n        Para anotarse\, hay que enviar un mensaje o llamar a:  artabros@artabros.org ./  WhatsApp – teléfono 623504771\n      Coste inscripción:\n       Socios:  Habitación doble 400€   – Habitación individual 425€\n       No socios:  Habitación doble:  430€ –  Habitación individual  455€\nSalida: Miércoles 16 abril a las 18 horas. Parada bus\, Plaza Casares Quiroga. https://maps.app.goo.gl/aVXCQVGSL1P1BZ2i6\nHay que estar 15 minutos antes\, para cargar maletas y pasar lista.\n      La cena será en ruta.
URL:https://artabros.org/evento/senderismo-invernal-en-el-alto-bernesga-la-pola-de-gordon-leon-del-16-al-20-de-abril-de-2025/
CATEGORIES:Otras Actividades,Senderismo
ATTACH;FMTTYPE=image/jpeg:https://artabros.org/wp-content/uploads/2025/02/Pola-Gordon-6-2011-173.jpg
ORGANIZER;CN="David":MAILTO:dasanti31@gmail.com
END:VEVENT
END:VCALENDAR