BEGIN:VCALENDAR
VERSION:2.0
PRODID:-//Sociedad de Montaña Ártabros - ECPv6.15.17.1//NONSGML v1.0//EN
CALSCALE:GREGORIAN
METHOD:PUBLISH
X-WR-CALNAME:Sociedad de Montaña Ártabros
X-ORIGINAL-URL:https://artabros.org
X-WR-CALDESC:Eventos para Sociedad de Montaña Ártabros
REFRESH-INTERVAL;VALUE=DURATION:PT1H
X-Robots-Tag:noindex
X-PUBLISHED-TTL:PT1H
BEGIN:VTIMEZONE
TZID:Europe/Madrid
BEGIN:DAYLIGHT
TZOFFSETFROM:+0100
TZOFFSETTO:+0200
TZNAME:CEST
DTSTART:20240331T010000
END:DAYLIGHT
BEGIN:STANDARD
TZOFFSETFROM:+0200
TZOFFSETTO:+0100
TZNAME:CET
DTSTART:20241027T010000
END:STANDARD
BEGIN:DAYLIGHT
TZOFFSETFROM:+0100
TZOFFSETTO:+0200
TZNAME:CEST
DTSTART:20250330T010000
END:DAYLIGHT
BEGIN:STANDARD
TZOFFSETFROM:+0200
TZOFFSETTO:+0100
TZNAME:CET
DTSTART:20251026T010000
END:STANDARD
BEGIN:DAYLIGHT
TZOFFSETFROM:+0100
TZOFFSETTO:+0200
TZNAME:CEST
DTSTART:20260329T010000
END:DAYLIGHT
BEGIN:STANDARD
TZOFFSETFROM:+0200
TZOFFSETTO:+0100
TZNAME:CET
DTSTART:20261025T010000
END:STANDARD
END:VTIMEZONE
BEGIN:VEVENT
DTSTART;TZID=Europe/Madrid:20250319T090000
DTEND;TZID=Europe/Madrid:20250319T140000
DTSTAMP:20260419T184314
CREATED:20250123T180533Z
LAST-MODIFIED:20250224T173444Z
UID:11932-1742374800-1742392800@artabros.org
SUMMARY:RUTA PERIURBANA | PARQUE DE BENS - A CORUÑA |  MIÉRCOLES 19 DE MARZO DE 2025
DESCRIPTION:Iniciamos las salidas periurbanas\, con una ruta por el coruñés Parque de Bens\,  uno de los grandes desconocidos de la ciudad. La ruta será de mañana. Más adelante\, informaremos del lugar y hora de inicio. \nActividad gratuita para socios.  Habrá un grupo de marcha nórdica haciendo la ruta. \n 
URL:https://artabros.org/evento/ruta-periurbana-parque-de-bens-miercoles-26-de-febrero-de-2025/
CATEGORIES:Otras Actividades,Senderismo
ATTACH;FMTTYPE=image/png:https://artabros.org/wp-content/uploads/2025/02/screenshot.1.png
END:VEVENT
END:VCALENDAR