BEGIN:VCALENDAR
VERSION:2.0
PRODID:-//Sociedad de Montaña Ártabros - ECPv6.15.17.1//NONSGML v1.0//EN
CALSCALE:GREGORIAN
METHOD:PUBLISH
X-WR-CALNAME:Sociedad de Montaña Ártabros
X-ORIGINAL-URL:https://artabros.org
X-WR-CALDESC:Eventos para Sociedad de Montaña Ártabros
REFRESH-INTERVAL;VALUE=DURATION:PT1H
X-Robots-Tag:noindex
X-PUBLISHED-TTL:PT1H
BEGIN:VTIMEZONE
TZID:Europe/Madrid
BEGIN:DAYLIGHT
TZOFFSETFROM:+0100
TZOFFSETTO:+0200
TZNAME:CEST
DTSTART:20240331T010000
END:DAYLIGHT
BEGIN:STANDARD
TZOFFSETFROM:+0200
TZOFFSETTO:+0100
TZNAME:CET
DTSTART:20241027T010000
END:STANDARD
BEGIN:DAYLIGHT
TZOFFSETFROM:+0100
TZOFFSETTO:+0200
TZNAME:CEST
DTSTART:20250330T010000
END:DAYLIGHT
BEGIN:STANDARD
TZOFFSETFROM:+0200
TZOFFSETTO:+0100
TZNAME:CET
DTSTART:20251026T010000
END:STANDARD
BEGIN:DAYLIGHT
TZOFFSETFROM:+0100
TZOFFSETTO:+0200
TZNAME:CEST
DTSTART:20260329T010000
END:DAYLIGHT
BEGIN:STANDARD
TZOFFSETFROM:+0200
TZOFFSETTO:+0100
TZNAME:CET
DTSTART:20261025T010000
END:STANDARD
END:VTIMEZONE
BEGIN:VEVENT
DTSTART;TZID=Europe/Madrid:20250130T080000
DTEND;TZID=Europe/Madrid:20250130T170000
DTSTAMP:20260419T203829
CREATED:20250130T104922Z
LAST-MODIFIED:20250130T104922Z
UID:12023-1738224000-1738256400@artabros.org
SUMMARY:RUTA PERIURBANA | A CORUÑA - SANTA CRUZ |  MIÉRCOLES 12 DE MARZO DE 2025
DESCRIPTION:Ruta sin bus. Utilizaremos el transporte público.  Actividad gratuita para socios. Habrá grupo de marcha nórdica. \nPendiente de información detallada
URL:https://artabros.org/evento/ruta-periurbana-a-coruna-santa-cruz-miercoles-12-de-marzo-de-2025/
CATEGORIES:Otras Actividades
ATTACH;FMTTYPE=image/jpeg:https://artabros.org/wp-content/uploads/2025/01/Rutas-periurbanas-02.jpg
END:VEVENT
END:VCALENDAR