BEGIN:VCALENDAR
VERSION:2.0
PRODID:-//Sociedad de Montaña Ártabros - ECPv6.15.17.1//NONSGML v1.0//EN
CALSCALE:GREGORIAN
METHOD:PUBLISH
X-WR-CALNAME:Sociedad de Montaña Ártabros
X-ORIGINAL-URL:https://artabros.org
X-WR-CALDESC:Eventos para Sociedad de Montaña Ártabros
REFRESH-INTERVAL;VALUE=DURATION:PT1H
X-Robots-Tag:noindex
X-PUBLISHED-TTL:PT1H
BEGIN:VTIMEZONE
TZID:Europe/Madrid
BEGIN:DAYLIGHT
TZOFFSETFROM:+0100
TZOFFSETTO:+0200
TZNAME:CEST
DTSTART:20210328T010000
END:DAYLIGHT
BEGIN:STANDARD
TZOFFSETFROM:+0200
TZOFFSETTO:+0100
TZNAME:CET
DTSTART:20211031T010000
END:STANDARD
BEGIN:DAYLIGHT
TZOFFSETFROM:+0100
TZOFFSETTO:+0200
TZNAME:CEST
DTSTART:20220327T010000
END:DAYLIGHT
BEGIN:STANDARD
TZOFFSETFROM:+0200
TZOFFSETTO:+0100
TZNAME:CET
DTSTART:20221030T010000
END:STANDARD
BEGIN:DAYLIGHT
TZOFFSETFROM:+0100
TZOFFSETTO:+0200
TZNAME:CEST
DTSTART:20230326T010000
END:DAYLIGHT
BEGIN:STANDARD
TZOFFSETFROM:+0200
TZOFFSETTO:+0100
TZNAME:CET
DTSTART:20231029T010000
END:STANDARD
END:VTIMEZONE
BEGIN:VEVENT
DTSTART;VALUE=DATE:20221111
DTEND;VALUE=DATE:20221114
DTSTAMP:20260421T214011
CREATED:20221013T081457Z
LAST-MODIFIED:20221013T081457Z
UID:8137-1668124800-1668383999@artabros.org
SUMMARY:ACTIVIDAD DE MONTAÑA – Macizo de Peña Trevinca
DESCRIPTION:-Fecha: 11 al 13 de Noviembre.\n-Alojamiento: Refugio «Roxelio Pereira Muíños» A Ponte – Concello da Veiga -Ourense.\n-Desplazamiento en coches particulares. \n– Dificultad técnica: baja. \n– Dificultad física: media. \n-Actividades:\nSábado: Ascensión a Peña Trevinca por la ruta que sube por O Fial\, Lagoa da Serpe para bajar por la cresta del Maluro.\n-Desnivel aproximado 1.300 metros\, distancia aproximada 25 km.\n-Domingo: Lagoas de Ocelo  y Carrizais. \n– Fecha límite de inscripción: viernes 4 de noviembre.\n– Limite de plazas:15. \n-Precio socios: Los gastos compartidos del desplazamiento\, alojamiento y manutención. \n-Precio no socios: 15€ + los gastos compartidos del desplazamiento\, alojamiento y manutención. \n-Más información e inscripciones por cualquiera de estas formas: \n\nPasar por el local\, horario de lunes a jueves de 20 a 22 h\, viernes de 18 a 20 h\, c/Santa Teresa\,14-bajo.\nLlamar al teléfono 981 21 31 15.\nMandar un correo a la dirección artabros@artabros.org.
URL:https://artabros.org/evento/actividad-de-montana-macizo-de-pena-trevinca/
LOCATION:Pena Trevinca\, Orense\, España
CATEGORIES:Montaña,Otras Actividades
END:VEVENT
END:VCALENDAR