BEGIN:VCALENDAR
VERSION:2.0
PRODID:-//Sociedad de Montaña Ártabros - ECPv6.15.17.1//NONSGML v1.0//EN
CALSCALE:GREGORIAN
METHOD:PUBLISH
X-WR-CALNAME:Sociedad de Montaña Ártabros
X-ORIGINAL-URL:https://artabros.org
X-WR-CALDESC:Eventos para Sociedad de Montaña Ártabros
REFRESH-INTERVAL;VALUE=DURATION:PT1H
X-Robots-Tag:noindex
X-PUBLISHED-TTL:PT1H
BEGIN:VTIMEZONE
TZID:Europe/Madrid
BEGIN:DAYLIGHT
TZOFFSETFROM:+0100
TZOFFSETTO:+0200
TZNAME:CEST
DTSTART:20210328T010000
END:DAYLIGHT
BEGIN:STANDARD
TZOFFSETFROM:+0200
TZOFFSETTO:+0100
TZNAME:CET
DTSTART:20211031T010000
END:STANDARD
BEGIN:DAYLIGHT
TZOFFSETFROM:+0100
TZOFFSETTO:+0200
TZNAME:CEST
DTSTART:20220327T010000
END:DAYLIGHT
BEGIN:STANDARD
TZOFFSETFROM:+0200
TZOFFSETTO:+0100
TZNAME:CET
DTSTART:20221030T010000
END:STANDARD
BEGIN:DAYLIGHT
TZOFFSETFROM:+0100
TZOFFSETTO:+0200
TZNAME:CEST
DTSTART:20230326T010000
END:DAYLIGHT
BEGIN:STANDARD
TZOFFSETFROM:+0200
TZOFFSETTO:+0100
TZNAME:CET
DTSTART:20231029T010000
END:STANDARD
END:VTIMEZONE
BEGIN:VEVENT
DTSTART;TZID=Europe/Madrid:20221109T080000
DTEND;TZID=Europe/Madrid:20221109T170000
DTSTAMP:20260421T214108
CREATED:20221026T083311Z
LAST-MODIFIED:20221026T083311Z
UID:8169-1667980800-1668013200@artabros.org
SUMMARY:CAMPAÑA VETERANOS ACTIVOS -  MIÉRCOLES 9 DE NOVIEMBRE  SENDA DE BOBORRÁS. ASTURESES – PAZOS DE ARENTEIRO.                          O CARBALLIÑO (Ourense)
DESCRIPTION:https://artabros.org/2022/10/campana-veteranos-activos-miercoles-9-de-noviembre-senda-de-boborras-astureses-pazos-de-arenteiro-o-caballino-ourense/
URL:https://artabros.org/evento/campana-veteranos-activos-miercoles-9-de-noviembre-senda-de-boborras-astureses-pazos-de-arenteiro-o-carballino-ourense/
CATEGORIES:Otras Actividades,Senderismo
END:VEVENT
END:VCALENDAR