BEGIN:VCALENDAR
VERSION:2.0
PRODID:-//Sociedad de Montaña Ártabros - ECPv6.15.17.1//NONSGML v1.0//EN
CALSCALE:GREGORIAN
METHOD:PUBLISH
X-WR-CALNAME:Sociedad de Montaña Ártabros
X-ORIGINAL-URL:https://artabros.org
X-WR-CALDESC:Eventos para Sociedad de Montaña Ártabros
REFRESH-INTERVAL;VALUE=DURATION:PT1H
X-Robots-Tag:noindex
X-PUBLISHED-TTL:PT1H
BEGIN:VTIMEZONE
TZID:Europe/Madrid
BEGIN:DAYLIGHT
TZOFFSETFROM:+0100
TZOFFSETTO:+0200
TZNAME:CEST
DTSTART:20200329T010000
END:DAYLIGHT
BEGIN:STANDARD
TZOFFSETFROM:+0200
TZOFFSETTO:+0100
TZNAME:CET
DTSTART:20201025T010000
END:STANDARD
BEGIN:DAYLIGHT
TZOFFSETFROM:+0100
TZOFFSETTO:+0200
TZNAME:CEST
DTSTART:20210328T010000
END:DAYLIGHT
BEGIN:STANDARD
TZOFFSETFROM:+0200
TZOFFSETTO:+0100
TZNAME:CET
DTSTART:20211031T010000
END:STANDARD
BEGIN:DAYLIGHT
TZOFFSETFROM:+0100
TZOFFSETTO:+0200
TZNAME:CEST
DTSTART:20220327T010000
END:DAYLIGHT
BEGIN:STANDARD
TZOFFSETFROM:+0200
TZOFFSETTO:+0100
TZNAME:CET
DTSTART:20221030T010000
END:STANDARD
END:VTIMEZONE
BEGIN:VEVENT
DTSTART;TZID=Europe/Madrid:20211127T080000
DTEND;TZID=Europe/Madrid:20211127T170000
DTSTAMP:20260422T200829
CREATED:20211120T085457Z
LAST-MODIFIED:20211120T085457Z
UID:7089-1638000000-1638032400@artabros.org
SUMMARY:Carreras de Orientación - O Grove
DESCRIPTION:boletin-siradella-27NOV21
URL:https://artabros.org/evento/carreras-de-orientacion-o-grove/
CATEGORIES:Orientación,Otras Actividades
END:VEVENT
BEGIN:VEVENT
DTSTART;TZID=Europe/Madrid:20211127T090000
DTEND;TZID=Europe/Madrid:20211127T170000
DTSTAMP:20260422T200829
CREATED:20211122T150345Z
LAST-MODIFIED:20211122T150345Z
UID:7093-1638003600-1638032400@artabros.org
SUMMARY:Escalada de Bloque
DESCRIPTION:III Prueba de la Copa de España de Escalada de Bloque FEDME 2021 (LUGO) \n\n\nCuándo: Sábado\, 27 de noviembre de 2021 a las 9:00\nLugar: Rocódromo Pazo de Feiras en  Lugo\nFechas de inscripción: Del 09/10/2021 a las 10:00 al 25/11/2021 a las 23:59.\n\nPARA INSCRIBIRSE tenéis el enlace en nuestra web\, en nuestro Facebook y en la FEDME:\n\nhttps://inscripciones.mychip.es/es/evento/iii_copa_fedme_escalada_bloque_lugo_21
URL:https://artabros.org/evento/escalada-de-bloque/
CATEGORIES:Escalada,Otras Actividades
END:VEVENT
END:VCALENDAR