BEGIN:VCALENDAR
VERSION:2.0
PRODID:-//Sociedad de Montaña Ártabros - ECPv6.15.17.1//NONSGML v1.0//EN
CALSCALE:GREGORIAN
METHOD:PUBLISH
X-ORIGINAL-URL:https://artabros.org
X-WR-CALDESC:Eventos para Sociedad de Montaña Ártabros
REFRESH-INTERVAL;VALUE=DURATION:PT1H
X-Robots-Tag:noindex
X-PUBLISHED-TTL:PT1H
BEGIN:VTIMEZONE
TZID:Europe/Madrid
BEGIN:DAYLIGHT
TZOFFSETFROM:+0100
TZOFFSETTO:+0200
TZNAME:CEST
DTSTART:20240331T010000
END:DAYLIGHT
BEGIN:STANDARD
TZOFFSETFROM:+0200
TZOFFSETTO:+0100
TZNAME:CET
DTSTART:20241027T010000
END:STANDARD
BEGIN:DAYLIGHT
TZOFFSETFROM:+0100
TZOFFSETTO:+0200
TZNAME:CEST
DTSTART:20250330T010000
END:DAYLIGHT
BEGIN:STANDARD
TZOFFSETFROM:+0200
TZOFFSETTO:+0100
TZNAME:CET
DTSTART:20251026T010000
END:STANDARD
BEGIN:DAYLIGHT
TZOFFSETFROM:+0100
TZOFFSETTO:+0200
TZNAME:CEST
DTSTART:20260329T010000
END:DAYLIGHT
BEGIN:STANDARD
TZOFFSETFROM:+0200
TZOFFSETTO:+0100
TZNAME:CET
DTSTART:20261025T010000
END:STANDARD
END:VTIMEZONE
BEGIN:VEVENT
DTSTART;TZID=Europe/Madrid:20250308T103000
DTEND;TZID=Europe/Madrid:20250308T123000
DTSTAMP:20260419T170333
CREATED:20250211T182714Z
LAST-MODIFIED:20250211T182714Z
UID:12075-1741429800-1741437000@artabros.org
SUMMARY:MARCHA NÓRDICA | PRÁCTICA EN EL PARQUE DE O BURGO - CULLEREDO | SÁBADO 8 DE MARZO DE 2025
DESCRIPTION:Seguimos con nuestra práctica\, esta vez cambiando el lugar habitual\, para este gran  parque\, perfecto para nosotros. El punto de encuentro es a las 10\,30 h\,  en el aparcamiento que hay pegado al puente.  https://maps.app.goo.gl/GwLuBQaTaxKaRQx89 \nComo siempre\, es necesario inscribirse. Actividad gratuita. Solo socios. \nQue avise quien necesite bastones.
URL:https://artabros.org/evento/marcha-nordica-practica-en-el-parque-de-o-burgo-culleredo-sabado-8-de-marzo-de-2025/
CATEGORIES:Marcha Nórdica,Otras Actividades
ATTACH;FMTTYPE=image/jpeg:https://artabros.org/wp-content/uploads/2025/01/Entrenamiento-M.N.Artabros-17-1-2025-12-scaled.jpg
ORGANIZER;CN="David":MAILTO:dasanti31@gmail.com
END:VEVENT
BEGIN:VEVENT
DTSTART;TZID=Europe/Madrid:20250319T090000
DTEND;TZID=Europe/Madrid:20250319T140000
DTSTAMP:20260419T170333
CREATED:20250123T180533Z
LAST-MODIFIED:20250224T173444Z
UID:11932-1742374800-1742392800@artabros.org
SUMMARY:RUTA PERIURBANA | PARQUE DE BENS - A CORUÑA |  MIÉRCOLES 19 DE MARZO DE 2025
DESCRIPTION:Iniciamos las salidas periurbanas\, con una ruta por el coruñés Parque de Bens\,  uno de los grandes desconocidos de la ciudad. La ruta será de mañana. Más adelante\, informaremos del lugar y hora de inicio. \nActividad gratuita para socios.  Habrá un grupo de marcha nórdica haciendo la ruta. \n 
URL:https://artabros.org/evento/ruta-periurbana-parque-de-bens-miercoles-26-de-febrero-de-2025/
CATEGORIES:Otras Actividades,Senderismo
ATTACH;FMTTYPE=image/png:https://artabros.org/wp-content/uploads/2025/02/screenshot.1.png
END:VEVENT
BEGIN:VEVENT
DTSTART;TZID=Europe/Madrid:20250321T170000
DTEND;TZID=Europe/Madrid:20250321T183000
DTSTAMP:20260419T170333
CREATED:20250211T183323Z
LAST-MODIFIED:20250211T183323Z
UID:12078-1742576400-1742581800@artabros.org
SUMMARY:MARCHA NÓRDICA | PRÁCTICA EN EL PARQUE DE SAN DIEGO - A CORUÑA | VIERNES 21 DE MARZO DE 2025
DESCRIPTION:Seguimos con la práctica de esta disciplina en el Parque de San Diego. \nEntrada Avda. del Ejercito\, delante de los baños  https://maps.app.goo.gl/aUv6gcGSfttSPCbc9 \nHorario:   De 17 a 18\,30 horas. \nActividad gratuita. Solo socios.     –  Hay que inscribirse.  Que avise\, quien necesite bastones.
URL:https://artabros.org/evento/marcha-nordica-practica-en-el-parque-de-san-diego-a-coruna-viernes-21-de-marzo-de-2025/
CATEGORIES:Marcha Nórdica,Otras Actividades
ATTACH;FMTTYPE=image/jpeg:https://artabros.org/wp-content/uploads/2025/01/Entrenamiento-M.N.Artabros-17-1-2025-12-scaled.jpg
ORGANIZER;CN="David":MAILTO:dasanti31@gmail.com
END:VEVENT
END:VCALENDAR