BEGIN:VCALENDAR
VERSION:2.0
PRODID:-//Sociedad de Montaña Ártabros - ECPv6.15.17.1//NONSGML v1.0//EN
CALSCALE:GREGORIAN
METHOD:PUBLISH
X-ORIGINAL-URL:https://artabros.org
X-WR-CALDESC:Eventos para Sociedad de Montaña Ártabros
REFRESH-INTERVAL;VALUE=DURATION:PT1H
X-Robots-Tag:noindex
X-PUBLISHED-TTL:PT1H
BEGIN:VTIMEZONE
TZID:Europe/Madrid
BEGIN:DAYLIGHT
TZOFFSETFROM:+0100
TZOFFSETTO:+0200
TZNAME:CEST
DTSTART:20230326T010000
END:DAYLIGHT
BEGIN:STANDARD
TZOFFSETFROM:+0200
TZOFFSETTO:+0100
TZNAME:CET
DTSTART:20231029T010000
END:STANDARD
BEGIN:DAYLIGHT
TZOFFSETFROM:+0100
TZOFFSETTO:+0200
TZNAME:CEST
DTSTART:20240331T010000
END:DAYLIGHT
BEGIN:STANDARD
TZOFFSETFROM:+0200
TZOFFSETTO:+0100
TZNAME:CET
DTSTART:20241027T010000
END:STANDARD
BEGIN:DAYLIGHT
TZOFFSETFROM:+0100
TZOFFSETTO:+0200
TZNAME:CEST
DTSTART:20250330T010000
END:DAYLIGHT
BEGIN:STANDARD
TZOFFSETFROM:+0200
TZOFFSETTO:+0100
TZNAME:CET
DTSTART:20251026T010000
END:STANDARD
END:VTIMEZONE
BEGIN:VEVENT
DTSTART;TZID=Europe/Madrid:20241004T173000
DTEND;TZID=Europe/Madrid:20241004T183000
DTSTAMP:20260420T015509
CREATED:20240827T181103Z
LAST-MODIFIED:20240827T181103Z
UID:10932-1728063000-1728066600@artabros.org
SUMMARY:MARCHA NÓRDICA | Parque de San Diego- A Coruña | Viernes 4 de octubre de 2024
DESCRIPTION:El objetivo es\, seguir aprendiendo y mejorando la técnica de la marcha nórdica en nuestra ciudad\, para practicarla en terreno de senderismo\, en actividades de la Federación y de otras entidades deportivas. \nPunto de encuentro: \nEntrada del parque\, esquina Avda. Ejército\, hay un WC. Ver aquí  \nHorario: De 17h a 18\,30h. \nActividad GRATUITA\, exclusiva para SOCIOS.       Plazas 20. \nInformación e inscripción: Tel/WhatsApp 623 50 47 71. Correo artabros@artabros.org     –  SE ABRE EL 28 DE SEPTIEMBRE \nEs necesario llevar los bastones específicos de marcha nórdica y tener conocimientos mínimos previos.
URL:https://artabros.org/evento/marcha-nordica-parque-de-san-diego-a-coruna-viernes-4-de-octubre-de-2024/
CATEGORIES:Marcha Nórdica,Otras Actividades
END:VEVENT
BEGIN:VEVENT
DTSTART;TZID=Europe/Madrid:20241018T170000
DTEND;TZID=Europe/Madrid:20241018T183000
DTSTAMP:20260420T015509
CREATED:20240827T181328Z
LAST-MODIFIED:20240827T181328Z
UID:10934-1729270800-1729276200@artabros.org
SUMMARY:MARCHA NÓRDICA | Parque de San Diego- A Coruña | Viernes 18 de octubre de 2024
DESCRIPTION:El objetivo es\, seguir aprendiendo y mejorando la técnica de la marcha nórdica en nuestra ciudad\, para practicarla en terreno de senderismo\, en actividades de la Federación y de otras entidades deportivas. \nPunto de encuentro: \nEntrada del parque\, esquina Avda. Ejército\, hay un WC. Ver aquí  \nHorario: De 17h a 18\,30h. \nActividad GRATUITA\, exclusiva para SOCIOS.       Plazas 20. \nInformación e inscripción: Tel/WhatsApp 623 50 47 71. Correo artabros@artabros.org     –  SE ABRE EL 5 DE OCTUBRE  \nEs necesario llevar los bastones específicos de marcha nórdica y tener conocimientos mínimos previos.
URL:https://artabros.org/evento/marcha-nordica-parque-de-san-diego-a-coruna-viernes-18-de-octubre-de-2024/
CATEGORIES:Marcha Nórdica,Otras Actividades
ORGANIZER;CN="David":MAILTO:dasanti31@gmail.com
END:VEVENT
BEGIN:VEVENT
DTSTART;VALUE=DATE:20241026
DTEND;VALUE=DATE:20241027
DTSTAMP:20260420T015509
CREATED:20240930T181343Z
LAST-MODIFIED:20241021T135943Z
UID:11159-1729900800-1729987199@artabros.org
SUMMARY:Celebración 50 aniversario de Ártabros
DESCRIPTION:En este año 2024 la Sociedad de Montaña Ártabros cumple 50 años desde su nacimiento en 1974.  \nEn todo este tiempo han sido muchísimas las personas y entidades que nos han acompado en este largo camino y deseamos celebrar con todos vosotros un evento especial como se merece.  \nnuestro objectivo es juntar en un día especial a todas aquellas personas y entidades que de un o otro modo forman o formaron en algún momento parte de esta diversa y gran famila o simplemente son simpacitantes de nuestro club. \nPara eso estamos organizando una jornada especial donde podremos hacer las actividades al aire libre que mais nos gustan antes de compartir mesa en una gran comida de confraternización\, además de celebrar un gran magosto social\, donde podreis venir acompañados de vuestras familias y amigos. \nFecha: Sábado 26 de octubre de 2024   \nLugar: Parque de la Torre de Celas (Culleredo) \nPrograma (pinchar en la actividad para ver detalles): \n10:00:  \n\nAndainas populares (Sendero del Rego Xesteiras).\nXuntanza de CxM. Subida cronometrada al cortafuegos del Xalo (Monte Xalo).\nCarrera de Orientación (Score).\nXuntanza de escalada en bloque (zona de Celas).\nXuntanza de escalada deportiva (Monte do Castro “falso Petón”).\n\n*El punto de encuentro de todas las actividades será en el parque de la Torre de Celas menos el de escalada deportiva. \n14:00:    \n\nPaellada en el parque da Torre de Celas.\n\n16:00: \n\nHomenaje y entrega de reconocimientos.\n \n16:30: \n\n\nProyección audiovisual 50 aniversario. \n\n\n17:00: \n\nMagosto social\, música y juegos populares.\n\nPara facilitar la organización\, rogamos os registreis en este formulario de inscripción tanto para las actividades como para la comida y el magosto.\n*El menú: Paella. (colaboración: 5€) Podeis traer los postres que deseeis. \nEstamos gestionando la posibilidad de poner transporte en bus desde Coruña en nuestras paradas habituales\, pero están sin confirmar. \nOs esperamos!
URL:https://artabros.org/evento/celebracion-50-aniversario-de-artabros/
CATEGORIES:Escalada,Espeleología,Montaña,Orientación,Otras Actividades,Senderismo
ATTACH;FMTTYPE=image/jpeg:https://artabros.org/wp-content/uploads/2024/07/Artabros_logo-1-e1728138948925.jpg
ORGANIZER;CN="%C3%81rtabros":MAILTO:artabros@artabros.org
END:VEVENT
BEGIN:VEVENT
DTSTART;TZID=Europe/Madrid:20241031T180000
DTEND;TZID=Europe/Madrid:20241103T170000
DTSTAMP:20260420T015509
CREATED:20240728T102501Z
LAST-MODIFIED:20240916T105110Z
UID:9809-1730397600-1730653200@artabros.org
SUMMARY:SENDERISMO DE MONTAÑA en los Montes Aquilianos - Ponferrada (León) | Del 31 octubre al 3 de Noviembre 2024 | Puente de Difuntos
DESCRIPTION:Con mucha anticipación\, abrimos la preinscripción de este viaje otoñal a las montañas de Ponferrada. La razón es la exigencia del hotel de un fuerte anticipo cuatro meses antes\, para garantizarnos la reserva.   Haremos un programa de tres rutas de dificultad física media en el mejor momento del otoño. Un día visitaremos los Canales Romanos de La Cabrera \nNos alojaremos en el Hotel Aroi****  \, muy cerca de dos de las rutas y  del Casco Antiguo de Ponferrada. Tenéis toda la información en este documento: Montes Aquilanos 2024 \nINSCRIPCIÓN: \nCuota socios: 270€  –   Socios temporales: 300€ \nPreinscripción: 50€ \nPlazo: Para los socios\, desde la publicación de la información. Para los socios   temporales\, desde el 24 de junio. \nTel. /WhatsApp: 623504771 / email: artabros@artabros.org. \nCuenta Ártabros: ES25-2080 5565 0030 4000 2362\nPrimero hay que solicitarla la plaza\, una vez confirmada\, se hace el ingreso correspondiente \nClave para incluir en el pago por transferencia: 71200440 \nSalida: jueves 31 de octubre a las 18 horas\, de la Parada de Bus\, de la Plaza Casares Quiroga. \nLlegada:  domingo 3 de noviembre sobre las 19\,30 horas\, en el mismo lugar. \n 
URL:https://artabros.org/evento/senderismo-de-montana-en-los-montes-aquilianos-ponferrada-leon-del-31-octubre-al-3-de-noviembre-de-2024-puente-de-difuntos/
CATEGORIES:Otras Actividades,Senderismo
ATTACH;FMTTYPE=image/jpeg:https://artabros.org/wp-content/uploads/2024/06/Montes-Alquilianos.jpg
ORGANIZER;CN="David":MAILTO:dasanti31@gmail.com
END:VEVENT
END:VCALENDAR