BEGIN:VCALENDAR
VERSION:2.0
PRODID:-//Sociedad de Montaña Ártabros - ECPv6.15.17.1//NONSGML v1.0//EN
CALSCALE:GREGORIAN
METHOD:PUBLISH
X-WR-CALNAME:Sociedad de Montaña Ártabros
X-ORIGINAL-URL:https://artabros.org
X-WR-CALDESC:Eventos para Sociedad de Montaña Ártabros
REFRESH-INTERVAL;VALUE=DURATION:PT1H
X-Robots-Tag:noindex
X-PUBLISHED-TTL:PT1H
BEGIN:VTIMEZONE
TZID:Europe/Madrid
BEGIN:DAYLIGHT
TZOFFSETFROM:+0100
TZOFFSETTO:+0200
TZNAME:CEST
DTSTART:20210328T010000
END:DAYLIGHT
BEGIN:STANDARD
TZOFFSETFROM:+0200
TZOFFSETTO:+0100
TZNAME:CET
DTSTART:20211031T010000
END:STANDARD
BEGIN:DAYLIGHT
TZOFFSETFROM:+0100
TZOFFSETTO:+0200
TZNAME:CEST
DTSTART:20220327T010000
END:DAYLIGHT
BEGIN:STANDARD
TZOFFSETFROM:+0200
TZOFFSETTO:+0100
TZNAME:CET
DTSTART:20221030T010000
END:STANDARD
BEGIN:DAYLIGHT
TZOFFSETFROM:+0100
TZOFFSETTO:+0200
TZNAME:CEST
DTSTART:20230326T010000
END:DAYLIGHT
BEGIN:STANDARD
TZOFFSETFROM:+0200
TZOFFSETTO:+0100
TZNAME:CET
DTSTART:20231029T010000
END:STANDARD
END:VTIMEZONE
BEGIN:VEVENT
DTSTART;VALUE=DATE:20221023
DTEND;VALUE=DATE:20221024
DTSTAMP:20260421T213652
CREATED:20220917T100838Z
LAST-MODIFIED:20220917T100838Z
UID:8111-1666483200-1666569599@artabros.org
SUMMARY:DEVESA DA ROGUEIRA – PICO FORMIGUEIROS- O COUREL (Lugo
DESCRIPTION:
URL:https://artabros.org/evento/devesa-da-rogueira-pico-formigueiros-o-courel-lugo/
CATEGORIES:Otras Actividades,Senderismo
END:VEVENT
END:VCALENDAR