BEGIN:VCALENDAR
VERSION:2.0
PRODID:-//Sociedad de Montaña Ártabros - ECPv6.15.17.1//NONSGML v1.0//EN
CALSCALE:GREGORIAN
METHOD:PUBLISH
X-WR-CALNAME:Sociedad de Montaña Ártabros
X-ORIGINAL-URL:https://artabros.org
X-WR-CALDESC:Eventos para Sociedad de Montaña Ártabros
REFRESH-INTERVAL;VALUE=DURATION:PT1H
X-Robots-Tag:noindex
X-PUBLISHED-TTL:PT1H
BEGIN:VTIMEZONE
TZID:Europe/Madrid
BEGIN:DAYLIGHT
TZOFFSETFROM:+0100
TZOFFSETTO:+0200
TZNAME:CEST
DTSTART:20210328T010000
END:DAYLIGHT
BEGIN:STANDARD
TZOFFSETFROM:+0200
TZOFFSETTO:+0100
TZNAME:CET
DTSTART:20211031T010000
END:STANDARD
BEGIN:DAYLIGHT
TZOFFSETFROM:+0100
TZOFFSETTO:+0200
TZNAME:CEST
DTSTART:20220327T010000
END:DAYLIGHT
BEGIN:STANDARD
TZOFFSETFROM:+0200
TZOFFSETTO:+0100
TZNAME:CET
DTSTART:20221030T010000
END:STANDARD
BEGIN:DAYLIGHT
TZOFFSETFROM:+0100
TZOFFSETTO:+0200
TZNAME:CEST
DTSTART:20230326T010000
END:DAYLIGHT
BEGIN:STANDARD
TZOFFSETFROM:+0200
TZOFFSETTO:+0100
TZNAME:CET
DTSTART:20231029T010000
END:STANDARD
END:VTIMEZONE
BEGIN:VEVENT
DTSTART;TZID=Europe/Madrid:20220225T080000
DTEND;TZID=Europe/Madrid:20220302T070000
DTSTAMP:20260422T103729
CREATED:20211207T092331Z
LAST-MODIFIED:20211207T092331Z
UID:7120-1645776000-1646204400@artabros.org
SUMMARY:Esquí en Carnavales 2022
DESCRIPTION:ProgramaNieve2021
URL:https://artabros.org/evento/esqui-en-carnavales-2022/
CATEGORIES:Montaña,Otras Actividades,Senderismo
END:VEVENT
BEGIN:VEVENT
DTSTART;TZID=Europe/Madrid:20220227T080000
DTEND;TZID=Europe/Madrid:20220301T170000
DTSTAMP:20260422T103729
CREATED:20220127T145914Z
LAST-MODIFIED:20220127T145914Z
UID:7281-1645948800-1646154000@artabros.org
SUMMARY:Montaña - Actividades invernales en Benasque
DESCRIPTION:actividades-invernales-Benasque-2022
URL:https://artabros.org/evento/montana-actividades-invernales-en-benasque/
CATEGORIES:Montaña,Otras Actividades
END:VEVENT
BEGIN:VEVENT
DTSTART;TZID=Europe/Madrid:20220303T200000
DTEND;TZID=Europe/Madrid:20220303T220000
DTSTAMP:20260422T103729
CREATED:20220208T204447Z
LAST-MODIFIED:20220208T204447Z
UID:7308-1646337600-1646344800@artabros.org
SUMMARY:Manejo de Mapas y Gps
DESCRIPTION:Charla-cartografia-cartel
URL:https://artabros.org/evento/manejo-de-mapas-y-gps/
CATEGORIES:Montaña,Otras Actividades
END:VEVENT
BEGIN:VEVENT
DTSTART;TZID=Europe/Madrid:20220305T160000
DTEND;TZID=Europe/Madrid:20220305T180000
DTSTAMP:20260422T103729
CREATED:20220208T204603Z
LAST-MODIFIED:20220208T204603Z
UID:7310-1646496000-1646503200@artabros.org
SUMMARY:Práctica de Mapas y GPS
DESCRIPTION:Charla-cartografia-cartel
URL:https://artabros.org/evento/practica-de-mapas-y-gps/
CATEGORIES:Montaña,Otras Actividades
END:VEVENT
BEGIN:VEVENT
DTSTART;TZID=Europe/Madrid:20220312T080000
DTEND;TZID=Europe/Madrid:20220313T170000
DTSTAMP:20260422T103729
CREATED:20220201T153118Z
LAST-MODIFIED:20220201T153118Z
UID:7289-1647072000-1647190800@artabros.org
SUMMARY:Curso Iniciación a la Montaña invernal
DESCRIPTION:curso-montanismo-invernal-2022
URL:https://artabros.org/evento/curso-iniciacion-a-la-montana-invernal/
CATEGORIES:Montaña,Otras Actividades
END:VEVENT
END:VCALENDAR