BEGIN:VCALENDAR
VERSION:2.0
PRODID:-//Sociedad de Montaña Ártabros - ECPv6.15.17.1//NONSGML v1.0//EN
CALSCALE:GREGORIAN
METHOD:PUBLISH
X-ORIGINAL-URL:https://artabros.org
X-WR-CALDESC:Eventos para Sociedad de Montaña Ártabros
REFRESH-INTERVAL;VALUE=DURATION:PT1H
X-Robots-Tag:noindex
X-PUBLISHED-TTL:PT1H
BEGIN:VTIMEZONE
TZID:Europe/Madrid
BEGIN:DAYLIGHT
TZOFFSETFROM:+0100
TZOFFSETTO:+0200
TZNAME:CEST
DTSTART:20190331T010000
END:DAYLIGHT
BEGIN:STANDARD
TZOFFSETFROM:+0200
TZOFFSETTO:+0100
TZNAME:CET
DTSTART:20191027T010000
END:STANDARD
BEGIN:DAYLIGHT
TZOFFSETFROM:+0100
TZOFFSETTO:+0200
TZNAME:CEST
DTSTART:20200329T010000
END:DAYLIGHT
BEGIN:STANDARD
TZOFFSETFROM:+0200
TZOFFSETTO:+0100
TZNAME:CET
DTSTART:20201025T010000
END:STANDARD
BEGIN:DAYLIGHT
TZOFFSETFROM:+0100
TZOFFSETTO:+0200
TZNAME:CEST
DTSTART:20210328T010000
END:DAYLIGHT
BEGIN:STANDARD
TZOFFSETFROM:+0200
TZOFFSETTO:+0100
TZNAME:CET
DTSTART:20211031T010000
END:STANDARD
END:VTIMEZONE
BEGIN:VEVENT
DTSTART;TZID=Europe/Madrid:20201204T080000
DTEND;TZID=Europe/Madrid:20201208T170000
DTSTAMP:20260423T131755
CREATED:20201004T190700Z
LAST-MODIFIED:20201103T150616Z
UID:6872-1607068800-1607446800@artabros.org
SUMMARY:Senderismo Pte.Constitución en Portugal
DESCRIPTION:            PUENTE DE LA CONSTITUCIÓN.VIAJE AL PARQUE NATURAL  \n             DE LAS SIERRAS DE AIRE E CANDEEIROS\, BATALHA (Portugal)  \n                                 DEL 4 AL 8 DE DICIEMBRE DE 2020 \n!! ACTIVIDAD SUSPENDIDA !! \nEste año en que tenemos que convivir con la pandemia del Covid-19 en la “nueva normalidad”\, nos hemos animado a lanzar un viaje\, a un parque natural de Portugal totalmente desconocido\, que creemos merece nuestra visita. Las/los interesados. \nEl próximo lunes 5 de octubre abriremos la preinscripción. Hay plazas limitadas. \nPrograma Completo
URL:https://artabros.org/evento/senderismo-pte-constitucion-en-portugal/
CATEGORIES:Otras Actividades,Senderismo
END:VEVENT
END:VCALENDAR