BEGIN:VCALENDAR
VERSION:2.0
PRODID:-//Sociedad de Montaña Ártabros - ECPv6.15.17.1//NONSGML v1.0//EN
CALSCALE:GREGORIAN
METHOD:PUBLISH
X-ORIGINAL-URL:https://artabros.org
X-WR-CALDESC:Eventos para Sociedad de Montaña Ártabros
REFRESH-INTERVAL;VALUE=DURATION:PT1H
X-Robots-Tag:noindex
X-PUBLISHED-TTL:PT1H
BEGIN:VTIMEZONE
TZID:Europe/Madrid
BEGIN:DAYLIGHT
TZOFFSETFROM:+0100
TZOFFSETTO:+0200
TZNAME:CEST
DTSTART:20250330T010000
END:DAYLIGHT
BEGIN:STANDARD
TZOFFSETFROM:+0200
TZOFFSETTO:+0100
TZNAME:CET
DTSTART:20251026T010000
END:STANDARD
BEGIN:DAYLIGHT
TZOFFSETFROM:+0100
TZOFFSETTO:+0200
TZNAME:CEST
DTSTART:20260329T010000
END:DAYLIGHT
BEGIN:STANDARD
TZOFFSETFROM:+0200
TZOFFSETTO:+0100
TZNAME:CET
DTSTART:20261025T010000
END:STANDARD
BEGIN:DAYLIGHT
TZOFFSETFROM:+0100
TZOFFSETTO:+0200
TZNAME:CEST
DTSTART:20270328T010000
END:DAYLIGHT
BEGIN:STANDARD
TZOFFSETFROM:+0200
TZOFFSETTO:+0100
TZNAME:CET
DTSTART:20271031T010000
END:STANDARD
END:VTIMEZONE
BEGIN:VEVENT
DTSTART;TZID=Europe/Madrid:20260711T080000
DTEND;TZID=Europe/Madrid:20260718T170000
DTSTAMP:20260424T053654
CREATED:20260112T165752Z
LAST-MODIFIED:20260112T165752Z
UID:13596-1783756800-1784394000@artabros.org
SUMMARY:SENDERISMO | SALZKAMMERGUT – SALZBURGO (Austria) | DEL 11 AL 18 DE JULIO DE 2026
DESCRIPTION:Os presentamos el viaje de verano de la sección de senderismo. Todavía con el gran sabor de boca del viaje a los Alpes Bávaros del año pasado\, nos hemos animado a seguir conociendo otras zonas alpinas\, con menos afluencia montañera y casi desconocidas para el senderismo en España\, como son los lagos de Salzburgo o Salzkammergut. \nCon Óscar Hernández\, el guía profesional de los Alpes Bávaros\, recorreremos los lugares más bellos de este fascinante macizo alpino situado al norte de Austria\, muy cerca de la frontera con Alemania. \nTenéis toda la información en este documento: \nINSCRIPCIÓN:   Se realiza aquí https://artabros.playoffinformatica.com/actividad/48/AUSTRIA/ \nLa iniciaremos con una preinscripción sin cuota\, exclusivamente para socios de S.M.Ártabros y de C.D.Fontiñas\, hasta el 31 de enero\, o completar las plazas.   Si en esa fecha\, no se llega al mínimo necesario\, se suspenderá el viaje\, lo que anunciaremos en la web. Si se llega\, enviaremos a los inscritos\, un enlace para ingresar el primer pago de febrero de 380€\, con un plazo máximo de 7 días para realizar el ingreso. En caso de no efectuarlo\, se perderá la plaza. \nCualquier duda de este viaje\, la podéis consultar el  teléfono/WhatsApp 623 50 47 71\, o dirigiros al organizador\, David Jove.
URL:https://artabros.org/evento/senderismo-salzkammergut-salzburgo-austria-del-11-al-18-de-julio-de-2026/
CATEGORIES:Senderismo
ATTACH;FMTTYPE=image/jpeg:https://artabros.org/wp-content/uploads/2026/01/traunsee_fac9eae7_240610154551_1200x795-copia.jpg
ORGANIZER;CN="David":MAILTO:dasanti31@gmail.com
END:VEVENT
END:VCALENDAR