BEGIN:VCALENDAR
VERSION:2.0
PRODID:-//Sociedad de Montaña Ártabros - ECPv6.15.17.1//NONSGML v1.0//EN
CALSCALE:GREGORIAN
METHOD:PUBLISH
X-ORIGINAL-URL:https://artabros.org
X-WR-CALDESC:Eventos para Sociedad de Montaña Ártabros
REFRESH-INTERVAL;VALUE=DURATION:PT1H
X-Robots-Tag:noindex
X-PUBLISHED-TTL:PT1H
BEGIN:VTIMEZONE
TZID:Europe/Madrid
BEGIN:DAYLIGHT
TZOFFSETFROM:+0100
TZOFFSETTO:+0200
TZNAME:CEST
DTSTART:20240331T010000
END:DAYLIGHT
BEGIN:STANDARD
TZOFFSETFROM:+0200
TZOFFSETTO:+0100
TZNAME:CET
DTSTART:20241027T010000
END:STANDARD
BEGIN:DAYLIGHT
TZOFFSETFROM:+0100
TZOFFSETTO:+0200
TZNAME:CEST
DTSTART:20250330T010000
END:DAYLIGHT
BEGIN:STANDARD
TZOFFSETFROM:+0200
TZOFFSETTO:+0100
TZNAME:CET
DTSTART:20251026T010000
END:STANDARD
BEGIN:DAYLIGHT
TZOFFSETFROM:+0100
TZOFFSETTO:+0200
TZNAME:CEST
DTSTART:20260329T010000
END:DAYLIGHT
BEGIN:STANDARD
TZOFFSETFROM:+0200
TZOFFSETTO:+0100
TZNAME:CET
DTSTART:20261025T010000
END:STANDARD
BEGIN:DAYLIGHT
TZOFFSETFROM:+0100
TZOFFSETTO:+0200
TZNAME:CEST
DTSTART:20270328T010000
END:DAYLIGHT
BEGIN:STANDARD
TZOFFSETFROM:+0200
TZOFFSETTO:+0100
TZNAME:CET
DTSTART:20271031T010000
END:STANDARD
END:VTIMEZONE
BEGIN:VEVENT
DTSTART;TZID=Europe/Madrid:20250905T080000
DTEND;TZID=Europe/Madrid:20251128T170000
DTSTAMP:20260424T135147
CREATED:20250729T110941Z
LAST-MODIFIED:20250729T112552Z
UID:12528-1757059200-1764349200@artabros.org
SUMMARY:CLASES DE MARCHA NÓRDICA PARA INICIADOS. DE SEPTIEMBRE A NOVIEMBRE DE 2025
DESCRIPTION:En septiembre\, empezamos las clases con Yullia Shurhina\, entrenadora-coach\, competidora y árbitra\, con certificación de la Federación Internacional de Marcha Nórdica ONWF\, y de la FEDME\, Su prestigiosa trayectoria profesional\, es un gran aval y una garantía. Con ella\, vamos a dar un gran empujón a la MN en nuestro club\, y nos llena de satisfacción\, poder contar con su colaboración. \nLas clases serán de dos horas\, siempre en el Parque de San Diego\, los viernes de 17 a 19 horas. \nFechas:  Septiembre. 5 y 19   – Octubre 3 y 24    –   Noviembre 14 – 28 \nInscripción/Información:      WhatsApp    623 50 47 71 \nCuenta: ES25-2080 5565 0030 4000 2362 \nCódigo actividad:  71200475 \nCuota socios: Los tres meses 45€.  Un mes 15€ \nCuota no socios:  Los tres meses 55€ –  Un mes 20€ \nPlazas limitadas
URL:https://artabros.org/evento/clases-de-marcha-nordica-para-iniciados-de-septiembre-a-noviembre-de-2025/
CATEGORIES:Marcha Nórdica
ATTACH;FMTTYPE=image/jpeg:https://artabros.org/wp-content/uploads/2025/07/Entrenamiento-MN.-Artabros-O-Burgo-StaCristina-8-scaled.jpg
ORGANIZER;CN="David":MAILTO:dasanti31@gmail.com
END:VEVENT
BEGIN:VEVENT
DTSTART;VALUE=DATE:20250915
DTEND;VALUE=DATE:20260620
DTSTAMP:20260424T135147
CREATED:20260105T172202Z
LAST-MODIFIED:20260119T160257Z
UID:13397-1757894400-1781913599@artabros.org
SUMMARY:CLASES DE ESCALADA - CURSO ESCOLAR 2025/26
DESCRIPTION:TODA LA INFO AQUÍ
URL:https://artabros.org/evento/clases-de-escalada-curso-escolar-2025-26/
CATEGORIES:Cursos,Escalada,Infantiles
ATTACH;FMTTYPE=image/jpeg:https://artabros.org/wp-content/uploads/2026/01/portada-clases-de-escalada.jpg
ORGANIZER;CN="%C3%81rtabros":MAILTO:artabros@artabros.org
END:VEVENT
BEGIN:VEVENT
DTSTART;TZID=Europe/Madrid:20251009T080000
DTEND;TZID=Europe/Madrid:20251012T213000
DTSTAMP:20260424T135147
CREATED:20250624T175001Z
LAST-MODIFIED:20250718T092535Z
UID:12474-1759996800-1760304600@artabros.org
SUMMARY:VETERANOS ACTIVOS | LA PERNÍA – LA LORA – (Palencia-Burgos) | DEL 9 AL 12 DE OCTUBRE DE  2025
DESCRIPTION:En octubre\, en el mejor momento del otoño\, antes del cambio de la hora\, volvemos a esta bellísima zona del norte de Palencia y Burgos. Haremos varias rutas que nos quedaron pendientes el año pasado\, además de visitar el páramo de La Lora(Burgos)\, el único lugar de la península donde se extrajo petróleo. \nComo en todas las actividades de Veteranos Activos\, combinaremos rutas fáciles de senderismo ( 12 – 14 km y poco desnivel)\, con visitas a monumentos y museos. \nEl alojamiento\, lo volveremos a repetir en el Hostal Peñalabra\, en Cervera de Pisuerga. \nTenéis toda la información en este  PROGRAMA \nInscripciones: Exclusivamente por WhatsApp:  623504771 \nClave para incluir no pago por transferencia:    71200474 \nCuenta: ES25-2080 5565 0030 4000 2362\nCoste inscripción: Socios habitación doble 315€   Habitación individual: 380€  No socios recargo: 30€ \nSe podrá efectuar en tres plazos:  Primero: preinscripción 65€. Segundo 125€\, hasta el 19 de septiembre. Tercero: 125€\, hasta el tres de octubre. La demora en el ingreso\, podrá suponer la pérdida de la plaza\, descontándose los gastos que se ocasionen. \nSALIDA: jueves 9 de octubre a las 8 horas de Riazor\, parada de bus de Deportienda (hay que estar 10-15 minutos antes)\, con recogida en Juan Flórez\, Alfonso Molina y Carrefour. \nIMPORTANTE: En la inscripción\, hay que indicar el lugar en el que subirá al bus\, y avisar si se cambia.
URL:https://artabros.org/evento/veteranos-activos-la-pernia-la-lora-palencia-y-burgos-2a-parte-del-9-al-12-de-octubre-de-2025/
CATEGORIES:Senderismo,Veteranos Activos
ATTACH;FMTTYPE=image/jpeg:https://artabros.org/wp-content/uploads/2025/06/La-Pernia-2024-70.jpg
ORGANIZER;CN="David":MAILTO:dasanti31@gmail.com
END:VEVENT
BEGIN:VEVENT
DTSTART;TZID=Europe/Madrid:20251010T080000
DTEND;TZID=Europe/Madrid:20251121T170000
DTSTAMP:20260424T135147
CREATED:20250930T155559Z
LAST-MODIFIED:20250930T162449Z
UID:12751-1760083200-1763744400@artabros.org
SUMMARY:CLASES DE MARCHA NÓRDICA\, NIVEL INICIACIÓN | OCTUBRE Y NOVIEMBRE DE 2025
DESCRIPTION:Para dar continuidad\, a quienes se acaban de iniciar en esta disciplina\,  y quieran seguir conociendo la técnica de la MN\, hemos programado unas clases de dos horas\, dos viernes al mes. Serán impartidas por Yuliia Shurhina. Las fechas son: \nOCTUBRE:  días 10 y 31.                NOVIEMBRE: Días 7 y 21 \nLas clases serán siempre\, de 17 a 19  horas\, en el Parque de San Diego. https://maps.app.goo.gl/iBHxh9d75etHRSoV6 \nInscripción cada mes:  Socios 15€ –  NO socios 20€ \nEnlace para realizarla: https://artabros.playoffinformatica.com/actividad/2/Marcha-Nordica-nivel-iniciacion-oct-nov/ \nClave de la actividad para realizar el pago por transferencia: 71200481 \nCuenta de Ártabros:    ES25 2080 5565 0030 4000 2362 \nInformación. Teléfono/ WhatsApp:    623 50 47 71
URL:https://artabros.org/evento/clases-de-marcha-nordica-nivel-iniciacion-octubre-y-noviembre-de-2025/
CATEGORIES:Marcha Nórdica,Otras Actividades
ATTACH;FMTTYPE=image/jpeg:https://artabros.org/wp-content/uploads/2025/09/IMG20250912163620-scaled.jpg
ORGANIZER;CN="David":MAILTO:dasanti31@gmail.com
END:VEVENT
END:VCALENDAR