BEGIN:VCALENDAR
VERSION:2.0
PRODID:-//Sociedad de Montaña Ártabros - ECPv6.15.17.1//NONSGML v1.0//EN
CALSCALE:GREGORIAN
METHOD:PUBLISH
X-WR-CALNAME:Sociedad de Montaña Ártabros
X-ORIGINAL-URL:https://artabros.org
X-WR-CALDESC:Eventos para Sociedad de Montaña Ártabros
REFRESH-INTERVAL;VALUE=DURATION:PT1H
X-Robots-Tag:noindex
X-PUBLISHED-TTL:PT1H
BEGIN:VTIMEZONE
TZID:Europe/Madrid
BEGIN:DAYLIGHT
TZOFFSETFROM:+0100
TZOFFSETTO:+0200
TZNAME:CEST
DTSTART:20240331T010000
END:DAYLIGHT
BEGIN:STANDARD
TZOFFSETFROM:+0200
TZOFFSETTO:+0100
TZNAME:CET
DTSTART:20241027T010000
END:STANDARD
BEGIN:DAYLIGHT
TZOFFSETFROM:+0100
TZOFFSETTO:+0200
TZNAME:CEST
DTSTART:20250330T010000
END:DAYLIGHT
BEGIN:STANDARD
TZOFFSETFROM:+0200
TZOFFSETTO:+0100
TZNAME:CET
DTSTART:20251026T010000
END:STANDARD
BEGIN:DAYLIGHT
TZOFFSETFROM:+0100
TZOFFSETTO:+0200
TZNAME:CEST
DTSTART:20260329T010000
END:DAYLIGHT
BEGIN:STANDARD
TZOFFSETFROM:+0200
TZOFFSETTO:+0100
TZNAME:CET
DTSTART:20261025T010000
END:STANDARD
END:VTIMEZONE
BEGIN:VEVENT
DTSTART;VALUE=DATE:20250405
DTEND;VALUE=DATE:20250407
DTSTAMP:20260424T235140
CREATED:20250310T150140Z
LAST-MODIFIED:20250310T150140Z
UID:12163-1743811200-1743983999@artabros.org
SUMMARY:PAIS E FILLOS - Actividad de iniciación al montañismo - Monte Pindo - 5 y 6 de Abril
DESCRIPTION:Esta actividad está dirigida a los socios con hijos menores que quieran iniciar a sus peques en el mundo del montañismo en compañía de otros niños\, pudiendo experimentar la ascensión a una montaña\, una pernocta en tienda de campaña\, una práctica de escalada en el monte. \nTambién está dirigida a padres sin experiencia en montañismo. \nPrograma: \n\nSábado 5:\n\n9:00h Salida en coches particulares. \nAscensión al Peñafiel con parada para escalar en las faldas del Peñafiel y desplazamiento al Merendero de Boca do Río en la playa de Carnota\, donde se realizará el campamento. \n\nDomingo 6:\n\nDesmontaje de campamento\, ascensión a la Moa desde el pueblo de O Pindo y paseo en paddle surf por la desembocadura del río Xallas. \n20:00h Llegada a Coruña. \nRequisitos: \n\nSolo para socios y acompañantes de socios.\nTodos los niños deberán ir acompañados de algún adulto a su cargo.\nNo se requiere experiencia previa.\n\nMaterial necesario: \n\nMochila.\nRecipiente con agua.\nComida para las actividades. (haremos cena común “pasta con atún y tomate”).\nTienda de campaña.\nSaco de dormir y esterilla.\nLinterna frontal.\nPlato\, vaso\, cubiertos.\nHornillo o similar.\nRopa de abrigo y chubasquero.\nRopa de repuesto.\nNeopreno y bañador (para los que quieran hacer el paddle surf).\n\nTransporte: \n\nEn coches particulares.\n\nPrecio: \n\nGratuito (A repartir los gastos de transporte y comida común).\n\nInscripciones: \n\nPor correo artabros@artabros.org o teléfono 623 50 47 71 hasta el mércoles 2 de abril.
URL:https://artabros.org/evento/pais-e-fillos-actividad-de-iniciacion-al-montanismo-monte-pindo-5-y-6-de-abril/
CATEGORIES:Escalada,Espeleología,Infantiles,Montaña,Orientación,Otras Actividades,Senderismo
ATTACH;FMTTYPE=image/png:https://artabros.org/wp-content/uploads/2025/03/pais-e-fillos-1.png
ORGANIZER;CN="%C3%81rtabros":MAILTO:artabros@artabros.org
END:VEVENT
BEGIN:VEVENT
DTSTART;TZID=Europe/Madrid:20250405T080000
DTEND;TZID=Europe/Madrid:20250406T170000
DTSTAMP:20260424T235140
CREATED:20250310T214806Z
LAST-MODIFIED:20250310T214806Z
UID:12183-1743840000-1743958800@artabros.org
SUMMARY:ORIENTACIÓN | 1º Galicia-O Meeting | O Val Miñor (Pontevedra) | 5 y 6 de abril 2025
DESCRIPTION:Los próximos 5 y 6 de abril el Club Raza Palleira organiza tres pruebas de orientación\, puntuables tanto para la Liga Gallega como para el ranking nacional. El evento tendrá lugar en la comarca de O Val Miñor\, al sur de la provincia de Pontevedra. \nEl sábado 5 de abril se celebrarán las pruebas de distancia media y sprint\, ambas puntuables para las Ligas Gallega y Española\, y en el caso del sprint también será el Campeonato Gallego. El domingo 6 de abril la competición se despedirá con la carrera de distancia larga\, valedera asimismo para los rankings autonómico y nacional. \nLas inscripciones están abiertas hasta el 26 de marzo (con recargo a partir del 19 de marzo a las 23:59). Las personas federadas deben inscribirse a través de la plataforma SICO de la FEDO; mientras que las no federadas deben hacerlo a través de la web de Raza Palleira.
URL:https://artabros.org/evento/orientacion-1o-galicia-o-meeting-o-val-minor-pontevedra-5-y-6-de-abril-2025/
CATEGORIES:Orientación
ATTACH;FMTTYPE=image/png:https://artabros.org/wp-content/uploads/2025/03/67789becd1-cartel.png
END:VEVENT
BEGIN:VEVENT
DTSTART;VALUE=DATE:20250406
DTEND;VALUE=DATE:20250407
DTSTAMP:20260424T235140
CREATED:20250204T164038Z
LAST-MODIFIED:20250320T100119Z
UID:12042-1743897600-1743983999@artabros.org
SUMMARY:COÑECE E CAMIÑA | TÚNELES DE BREGUA - CULLEREDO (A Coruña)  |  DOMINGO 6 DE ABRIL DE 2025
DESCRIPTION:Roteiro previsto no calendario para o 16 de febreiro\, que polos continuos temporais\, tivenos que sustituila por outra. Agora a reprogramamos para abril\, coa esperanza de que teñamos mellor tempo. Trátase dun roteiro circular de 15 km\, no que un gran treito\,  vai polo antigo trazado do ferrocarril Coruña – Santiago\, pasando por varios túneles longos\,  sen dificultades técnicas- É imprescindible llevar levar lanterna\, e bo calzado. Sen dúbida\, será un Coñece e Camiña diferente\, \nTedes toda a información aquí \nDistancia:  15\,5 km.\nDificultade técnica: Media\nDificultade física: Media \nInformacións e inscricións: Tel. /WhatsApp: 623504771 / email: artabros@artabros.org \nClave para incluir no pago por transferencia: 71200465 \nConta: ES25-2080 5565 0030 4000 2362\nCusto dá actividade: Socios 12€    Non socios 16€ \nSaída:  Domingo as 8\,00 horas do Pavillón de Deportes de Riazor\, con paradas en Xoan Flórez\, Alfonso Molina e Carrefour
URL:https://artabros.org/evento/conece-e-camina-tuneles-de-bregua-cerceda-a-coruna-domingo-27-de-abril-de-2025/
CATEGORIES:Conoce y Camina,Senderismo
ATTACH;FMTTYPE=image/jpeg:https://artabros.org/wp-content/uploads/2025/02/Tuneles-de-Bregua-Prep.1-1-2025-8-scaled.jpg
ORGANIZER;CN="David":MAILTO:dasanti31@gmail.com
END:VEVENT
END:VCALENDAR