BEGIN:VCALENDAR
VERSION:2.0
PRODID:-//Sociedad de Montaña Ártabros - ECPv6.15.17.1//NONSGML v1.0//EN
CALSCALE:GREGORIAN
METHOD:PUBLISH
X-WR-CALNAME:Sociedad de Montaña Ártabros
X-ORIGINAL-URL:https://artabros.org
X-WR-CALDESC:Eventos para Sociedad de Montaña Ártabros
REFRESH-INTERVAL;VALUE=DURATION:PT1H
X-Robots-Tag:noindex
X-PUBLISHED-TTL:PT1H
BEGIN:VTIMEZONE
TZID:Europe/Madrid
BEGIN:DAYLIGHT
TZOFFSETFROM:+0100
TZOFFSETTO:+0200
TZNAME:CEST
DTSTART:20240331T010000
END:DAYLIGHT
BEGIN:STANDARD
TZOFFSETFROM:+0200
TZOFFSETTO:+0100
TZNAME:CET
DTSTART:20241027T010000
END:STANDARD
BEGIN:DAYLIGHT
TZOFFSETFROM:+0100
TZOFFSETTO:+0200
TZNAME:CEST
DTSTART:20250330T010000
END:DAYLIGHT
BEGIN:STANDARD
TZOFFSETFROM:+0200
TZOFFSETTO:+0100
TZNAME:CET
DTSTART:20251026T010000
END:STANDARD
BEGIN:DAYLIGHT
TZOFFSETFROM:+0100
TZOFFSETTO:+0200
TZNAME:CEST
DTSTART:20260329T010000
END:DAYLIGHT
BEGIN:STANDARD
TZOFFSETFROM:+0200
TZOFFSETTO:+0100
TZNAME:CET
DTSTART:20261025T010000
END:STANDARD
END:VTIMEZONE
BEGIN:VEVENT
DTSTART;TZID=Europe/Madrid:20250207T080000
DTEND;TZID=Europe/Madrid:20250207T170000
DTSTAMP:20260425T032625
CREATED:20250123T171926Z
LAST-MODIFIED:20250123T173721Z
UID:11920-1738915200-1738947600@artabros.org
SUMMARY:MARCHA NÓRDICA |  PRÁCTICA NIVEL BÁSICO | VIERNES 7 DE FEBRERO DE 2025
DESCRIPTION:Continuamos nuestra actividad de marcha nórdica\, con una jornada de técnica básica\, para aquellas personas que quieran tener un primer contacto\, con esta nueva  actividad en nuestro club. \nHorario:  De 16\,30 a 19 horas. \nLugar:  Entrada Avda. del Ejercito del Parque de San Diego\, delante de los baños  https://maps.app.goo.gl/aUv6gcGSfttSPCbc9 \nSe dejarán bastones a quien los necesite. Avisar en la inscripción. \nInscripción:  Gratis.  Solo socios.
URL:https://artabros.org/evento/marcha-nordica-practica-nivel-basico-viernes-7-de-febrero-de-2025/
ATTACH;FMTTYPE=image/jpeg:https://artabros.org/wp-content/uploads/2025/01/Entrenamiento-M.N.Artabros-17-1-2025-12-1-scaled.jpg
ORGANIZER;CN="David":MAILTO:dasanti31@gmail.com
END:VEVENT
END:VCALENDAR