BEGIN:VCALENDAR
VERSION:2.0
PRODID:-//Sociedad de Montaña Ártabros - ECPv6.15.17.1//NONSGML v1.0//EN
CALSCALE:GREGORIAN
METHOD:PUBLISH
X-WR-CALNAME:Sociedad de Montaña Ártabros
X-ORIGINAL-URL:https://artabros.org
X-WR-CALDESC:Eventos para Sociedad de Montaña Ártabros
REFRESH-INTERVAL;VALUE=DURATION:PT1H
X-Robots-Tag:noindex
X-PUBLISHED-TTL:PT1H
BEGIN:VTIMEZONE
TZID:Europe/Madrid
BEGIN:DAYLIGHT
TZOFFSETFROM:+0100
TZOFFSETTO:+0200
TZNAME:CEST
DTSTART:20240331T010000
END:DAYLIGHT
BEGIN:STANDARD
TZOFFSETFROM:+0200
TZOFFSETTO:+0100
TZNAME:CET
DTSTART:20241027T010000
END:STANDARD
BEGIN:DAYLIGHT
TZOFFSETFROM:+0100
TZOFFSETTO:+0200
TZNAME:CEST
DTSTART:20250330T010000
END:DAYLIGHT
BEGIN:STANDARD
TZOFFSETFROM:+0200
TZOFFSETTO:+0100
TZNAME:CET
DTSTART:20251026T010000
END:STANDARD
BEGIN:DAYLIGHT
TZOFFSETFROM:+0100
TZOFFSETTO:+0200
TZNAME:CEST
DTSTART:20260329T010000
END:DAYLIGHT
BEGIN:STANDARD
TZOFFSETFROM:+0200
TZOFFSETTO:+0100
TZNAME:CET
DTSTART:20261025T010000
END:STANDARD
END:VTIMEZONE
BEGIN:VEVENT
DTSTART;VALUE=DATE:20250115
DTEND;VALUE=DATE:20250116
DTSTAMP:20260425T051834
CREATED:20241226T101934Z
LAST-MODIFIED:20241226T101934Z
UID:11714-1736899200-1736985599@artabros.org
SUMMARY:VETERANOS ACTIVOS | ROTEIRO DE PONTE DE AGRA A MOURAZOS (A Coruña) | MÉRCORES 15 DE XANEIRO DE 2025
DESCRIPTION:Comezámolo ano\,  cun fermoso roteiro pola Terra de Melide\, camiñando a carón do río Ulla\, ata chegar ao Encoro de Portemouros. \nTedes toda información aquí    \nDistancia:  12 km.\nDificultade técnica: Baixa\nDificultade física: Baixa \nInformacións e inscricións: Tel. /WhatsApp: 623504771 / email: artabros@artabros.org \nClave para incluir no pago por transferencia:  pendente \nConta: ES25-2080 5565 0030 4000 2362\nCusto dá actividade: Socios 12€    Non socios 16€ \nSaída: MÉRCORES as 9\,00 horas do Pavillón de Deportes de Riazor\, con paradas en Xoan Flórez\, Alfonso Molina e Carrefour. \n 
URL:https://artabros.org/evento/veteranos-activos-roteiro-de-ponte-de-agra-a-mourazos-a-coruna-mercores-15-de-xaneiro-de-2025/
ATTACH;FMTTYPE=image/jpeg:https://artabros.org/wp-content/uploads/2024/02/VeteranosActivos.jpg
END:VEVENT
END:VCALENDAR