BEGIN:VCALENDAR
VERSION:2.0
PRODID:-//Sociedad de Montaña Ártabros - ECPv6.15.17.1//NONSGML v1.0//EN
CALSCALE:GREGORIAN
METHOD:PUBLISH
X-ORIGINAL-URL:https://artabros.org
X-WR-CALDESC:Eventos para Sociedad de Montaña Ártabros
REFRESH-INTERVAL;VALUE=DURATION:PT1H
X-Robots-Tag:noindex
X-PUBLISHED-TTL:PT1H
BEGIN:VTIMEZONE
TZID:Europe/Madrid
BEGIN:DAYLIGHT
TZOFFSETFROM:+0100
TZOFFSETTO:+0200
TZNAME:CEST
DTSTART:20240331T010000
END:DAYLIGHT
BEGIN:STANDARD
TZOFFSETFROM:+0200
TZOFFSETTO:+0100
TZNAME:CET
DTSTART:20241027T010000
END:STANDARD
BEGIN:DAYLIGHT
TZOFFSETFROM:+0100
TZOFFSETTO:+0200
TZNAME:CEST
DTSTART:20250330T010000
END:DAYLIGHT
BEGIN:STANDARD
TZOFFSETFROM:+0200
TZOFFSETTO:+0100
TZNAME:CET
DTSTART:20251026T010000
END:STANDARD
BEGIN:DAYLIGHT
TZOFFSETFROM:+0100
TZOFFSETTO:+0200
TZNAME:CEST
DTSTART:20260329T010000
END:DAYLIGHT
BEGIN:STANDARD
TZOFFSETFROM:+0200
TZOFFSETTO:+0100
TZNAME:CET
DTSTART:20261025T010000
END:STANDARD
BEGIN:DAYLIGHT
TZOFFSETFROM:+0100
TZOFFSETTO:+0200
TZNAME:CEST
DTSTART:20270328T010000
END:DAYLIGHT
BEGIN:STANDARD
TZOFFSETFROM:+0200
TZOFFSETTO:+0100
TZNAME:CET
DTSTART:20271031T010000
END:STANDARD
END:VTIMEZONE
BEGIN:VEVENT
DTSTART;VALUE=DATE:20250915
DTEND;VALUE=DATE:20260620
DTSTAMP:20260423T224156
CREATED:20260105T172202Z
LAST-MODIFIED:20260119T160257Z
UID:13397-1757894400-1781913599@artabros.org
SUMMARY:CLASES DE ESCALADA - CURSO ESCOLAR 2025/26
DESCRIPTION:TODA LA INFO AQUÍ
URL:https://artabros.org/evento/clases-de-escalada-curso-escolar-2025-26/
CATEGORIES:Cursos,Escalada,Infantiles
ATTACH;FMTTYPE=image/jpeg:https://artabros.org/wp-content/uploads/2026/01/portada-clases-de-escalada.jpg
ORGANIZER;CN="%C3%81rtabros":MAILTO:artabros@artabros.org
END:VEVENT
BEGIN:VEVENT
DTSTART;VALUE=DATE:20251105
DTEND;VALUE=DATE:20260420
DTSTAMP:20260423T224156
CREATED:20260105T170829Z
LAST-MODIFIED:20260105T173006Z
UID:13391-1762300800-1776643199@artabros.org
SUMMARY:CLASES DE FITNESS - 2025/26
DESCRIPTION:Sesiones amenas\, dirigidas por un educador físico deportivo\, en las que ganarás resistencia aeróbica y mucha fuerza\, de la mano de nuestro colaborador Ricardo (Pintega\, Kayak & Camps). \nLUGAR: Local de Ártabros. \nHORARIOS: \nTodos los Martes y jueves\, de 19h30 a 20h30\, desde el 5 de noviembre al 19 de junio.\n*Excepto navidad\, carnaval y semana santa. \nPRECIOS/MES: \n\nSocios Ártabros y abonados Píntega: 25 €\nNo socios ni abonados: 32 €\n\nORGANIZACIÓN DE LA SESIONES: \n\nSe trata de sesiones en las que cada usuario\, frente al monitor\, realiza las tareas propuesta\, para las que apenas se necesita nada más que una colchoneta (esterilla).\nMáximo 12 participantes.\nLa instalación dispone de vestuario y ducha.\nIMPORTANTE: debes saber\, antes de anotarte que\, en este programa\, para que tenga los resultados deseados\, se obliga a una asistencia mínima obligatoria …\nNO VAS A PODER RENUNCIAR A PONERTE EN FORMA.\nFacilidades para tu asistencia con sesiones online.\n\n1ª SESIÓN DE PRUEBA GRATIS! \nINFO E INSCRIPCIONES: 623 50 47 71 (Ártabros)\, 630 966 765 (Ricardo) o artabros@artabros.org
URL:https://artabros.org/evento/13391/
CATEGORIES:Otras Actividades
ATTACH;FMTTYPE=image/jpeg:https://artabros.org/wp-content/uploads/2026/01/portada-fitness.jpg
ORGANIZER;CN="%C3%81rtabros":MAILTO:artabros@artabros.org
END:VEVENT
BEGIN:VEVENT
DTSTART;TZID=Europe/Madrid:20260109T080000
DTEND;TZID=Europe/Madrid:20260327T170000
DTSTAMP:20260423T224156
CREATED:20251223T173806Z
LAST-MODIFIED:20260114T115233Z
UID:13126-1767945600-1774630800@artabros.org
SUMMARY:MARCHA NÓRDICA | CLASES 1º TRIMESTRE 2026
DESCRIPTION:En el año 2026\, continuamos con las clases dirigidas por nuestra profesora Yuliia Shurhina. Son los viernes\, en el Parque de San Diego\, 17 a 19 horas. Hay dos modalidades de inscripción\, por trimestre y por mes. \nInscripción por trimestre:  Socios 45€ –  No socios 55 €. \nNivel 1 iniciación: https://artabros.playoffinformatica.com/actividad/44/CURSO-MARCHA-NORDICA-TRIMESTRAL-NIVEL-1/ \nNivel 2 ya iniciados: https://artabros.playoffinformatica.com/actividad/46/CURSO-MARCHA-NORDICA-TRIMESTRAL-NIVEL-2/ \nInscripción por mes:  Socios: 20€   No socios:  25€ \nNivel 1 iniciación enero: https://artabros.playoffinformatica.com/actividad/45/CURSO-MARCHA-NORDICA-ENERO-NIVEL-1/ \nNivel 2 ya iniciados enero: https://artabros.playoffinformatica.com/actividad/47/CURSO-MARCHA-NORDICA-ENERO-NIVEL-2/ \nNivel 1 iniciación febrero :https://artabros.playoffinformatica.com/actividad/57/CLASES-DE-MARCHA-NORDICA-NIVEL-2-FEBRERO-2026/ \nNivel 2 ya iniciados febrero: https://artabros.playoffinformatica.com/actividad/56/CLASES-MARCHA-NORDICA-NIVEL-1-FEBRERO-2026/ \nFECHAS \n\n\n\n\nENERO\nENERO\n\nFEBRERO\nFEBRERO\n\nMARZO\nMARZO\n\n\n\n\n\n\n\n\n\n\n\n\n\nNIVEL 1 INICIACIÓN\n9\n23\n\n6\n20\n\n6\n20\n\n\n\n\n\n\n\n\n\n\n\n\n\nNIVEL 2 YA INICIADOS\n16\n30\n\n13\n27\n\n13\n27\n\n\n\nNúmero máximo por clase: 20 participantes. Quien no pueda asistir a una clase\, no podrá recuperarla en otra fecha. Quienes tenga interés en venir a las clases y no tenga ningún conocimiento\, no puede anotarse. \nPueden dejarnos sus datos\, y cuando hagamos un nuevo curso de iniciación\, les avisaremos. También  lo publicaremos en esa web.
URL:https://artabros.org/evento/marcha-nordica-clases-1o-trimestre-2026/
CATEGORIES:Marcha Nórdica
ATTACH;FMTTYPE=image/jpeg:https://artabros.org/wp-content/uploads/2025/12/portada-marcha-nordica.jpg
ORGANIZER;CN="David":MAILTO:dasanti31@gmail.com
END:VEVENT
BEGIN:VEVENT
DTSTART;VALUE=DATE:20260304
DTEND;VALUE=DATE:20260305
DTSTAMP:20260423T224156
CREATED:20260104T172656Z
LAST-MODIFIED:20260226T080659Z
UID:13296-1772582400-1772668799@artabros.org
SUMMARY:VETERANOS ACTIVOS |ROTEIRO DE AVELINO DÍAZ | MEIRA (Lugo) | MÉRCORES 4 DE MARZO DE 2026
DESCRIPTION:O 4 de marzo\,  faremos o Roteiro de Avelino Diaz\, poeta e xornalista que naceu nesta terra.  Foi “unha voz comprometida na Galicia emigrante”. A sua faceta poética\, está escrita en Arxentina\, onde viviu case toda a vida.  Comezaremos a camiñar en Riotorto\, e remataremos no povo de Meira\, onde faremos o xantar. Pola tarde temos una visita guiada ao mosteiro cisterciense de Santa María\, de finais do S.XII.  Si queda tempo\, faremos un pequeno e fácil engadido ata Fonmiñá. \nTedes toda a información neste folleto. \nInformación: Teléfono/WhatsApp: 623 50 47 71 \nIMPORTANTE:  A saída será ás 8:00 h desde as paradas habituais.     Nº de prazas: 55 \nCusto:      Socio de número/aspirante:  15 €       Non socio de número/aspirante:  19€ \nPara realizar a inscrición\, é necesario acceder a esta ligazón: https://artabros.playoffinformatica.com/actividad/65/Veteranos-Marzo/ \n 
URL:https://artabros.org/evento/veteranos-activos-roteiro-de-avelino-diaz-meira-4-marzo/
CATEGORIES:Senderismo,Veteranos Activos
ATTACH;FMTTYPE=image/jpeg:https://artabros.org/wp-content/uploads/2026/02/Ruta-Avelino-Diaz-Prep.Vet_.4-3-2026-4-scaled.jpg
END:VEVENT
BEGIN:VEVENT
DTSTART;TZID=Europe/Madrid:20260307T100000
DTEND;TZID=Europe/Madrid:20260307T180000
DTSTAMP:20260423T224156
CREATED:20260110T144648Z
LAST-MODIFIED:20260110T144648Z
UID:13544-1772877600-1772906400@artabros.org
SUMMARY:ORIENTACIÓN | CAMPEONATO XUNTA DE GALICIA DE RAIDS DE ORIENTACIÓN | Melide | 7 marzo 2026
DESCRIPTION:El Club Aromon de Pontevedra organiza el próximo sábado 7 de marzo el Campeonato Xunta de Galicia de Raids de Orientación en Melide\, que será además la primera prueba de la temporada. Toda la información se irá publicando próximamente en la web de la Federación Gallega de Orientación.
URL:https://artabros.org/evento/orientacion-campeonato-xunta-de-galicia-de-raids-de-orientacion-melide-7-marzo-2026/
CATEGORIES:Orientación
ATTACH;FMTTYPE=image/jpeg:https://artabros.org/wp-content/uploads/2026/01/portada-orientacion.jpg
END:VEVENT
BEGIN:VEVENT
DTSTART;VALUE=DATE:20260314
DTEND;VALUE=DATE:20260315
DTSTAMP:20260423T224156
CREATED:20260305T095717Z
LAST-MODIFIED:20260308T221820Z
UID:13874-1773446400-1773532799@artabros.org
SUMMARY:MONTAÑISMO EN FAMILIA | LUGO | 14 MARZO
DESCRIPTION:Actividad para participar en familia en la que podreis conocer e iniciaros en el deporte de la orientación en Monte Segade (Lugo)\, aprovechando la celebración de la 3ª prueba de la Liga Gallega de Orientación a Pie\, organizada por el Club de Fluvial de Lugo. Por la tarde en función a la metereología podremos practicar escalada en la zona de escalada de Baleira\, perfecta para inciación\, o ir al Rocódromo de Lugo ubicado dentro del Pazo de Feiras de Lugo en el caso de que lloviese. \nEsta actividad está dirigida tanto a personas socias de Ártabros\, como a personas allegadas. \nFecha límite de inscripción para la carrera: Sábado 8 febrero 23:59h. \nINICIACIÓN A LA ORIENTACIÓN: \nInformación de la carrera: https://fegado.es/events/view/5z923m500sqq/ \nPunto de encuentro: \n\n9:30h. La zona de concentración ubicada instalaciones del Club Fluvial de Lugo.\n10:00h. Explicación de la actividad por socios de la sección de orientación.\n11:00 – 11:30h. Inicio de la carrera en grupo acompañados de los monitores para los inscritos en el recorrido de iniciación corta. Las personas que prefieran podrán apuntarse en el recorrido de iniciación larga\, pero este no será tutorizado.\n13:00-13:30h. Hora aproximada de fin de la actividad.\n14:00h. Comida de pícnic (cada uno lo suyo).\n15:30h. Salida hacia la zona de escalada (Baleira o Rocodromo de Lugo) y escalar hasta cansarse…\n\nRequisitos: \n\nSolo para socio/as del club y acompañantes.\nLos menores tendrán que ir acompañados de algún adulto a su cargo.\nNo se requiere experiencia previa.\nLos participantes en la orientación tendrán que ser capaces de completar caminando un recorrido de 3-4 km por senderos y bosque con poco desnivel. La duración de la actividad será de 1-2 horas.\nPara la escalada no es necesaria experiencia previa.\n\nMaterial recomendable para la orientación: \n\nTarjeta Sportident (en caso de no tener una\, será proporcionada por el club. Alquiler gratuito para las personas socias y de 3€ para las no socias).\nMochila pequeña.\nRecipiente con agua.\nRopa y calzado cómodos. Se recomienda llevar pantalón largo y chubasquero.\nBrújula.\nRopa de repuesto.\n\nMaterial personal recomendable para la escalada: \n\nPies de gato\, casco\, arnés.\n\nPrecio: \n\nSocio/as menores de edad: Gratis\nSocio/as mayores de edad: 2\,5€\nNo socio/as: 10€\nLa Inscripción a la prueba orientación (incluye inscripción+seguro de día+ tarjeta Sportident).\n\n– En caso de ir al rocódromo: La entrada de día en el rocódromo. \n– En caso de escalada en roca: Gratis. \nTransporte en coches particulares. \nInscripciones en este enlace.
URL:https://artabros.org/evento/montanismo-en-familia-lugo-14-marzo-2/
CATEGORIES:Escalada,Montaña,Orientación,Otras Actividades
ATTACH;FMTTYPE=image/jpeg:https://artabros.org/wp-content/uploads/2026/01/portada-montanismo-en-familia-1.jpg
END:VEVENT
BEGIN:VEVENT
DTSTART;TZID=Europe/Madrid:20260314T100000
DTEND;TZID=Europe/Madrid:20260314T140000
DTSTAMP:20260423T224156
CREATED:20260110T145327Z
LAST-MODIFIED:20260110T145327Z
UID:13546-1773482400-1773496800@artabros.org
SUMMARY:ORIENTACIÓN | 3ª PRUEBA DE LA LIGA GALLEGA DE ORIENTACIÓN A PIE | Lugo | 14 de marzo 2026
DESCRIPTION:El Club Fluvial de Lugo organiza el sábado 14 de marzo la 3ª prueba de la Liga Gallega de Orientación a Pie de esta temporada.. Toda la información se irá publicando próximamente en la web de la Federación Gallega de Orientación.
URL:https://artabros.org/evento/orientacion-3a-prueba-de-la-liga-gallega-de-orientacion-a-pie-lugo-14-de-marzo-2026/
CATEGORIES:Orientación
ATTACH;FMTTYPE=image/jpeg:https://artabros.org/wp-content/uploads/2026/01/portada-orientacion.jpg
END:VEVENT
BEGIN:VEVENT
DTSTART;VALUE=DATE:20260315
DTEND;VALUE=DATE:20260316
DTSTAMP:20260423T224156
CREATED:20260104T172830Z
LAST-MODIFIED:20260301T192305Z
UID:13298-1773532800-1773619199@artabros.org
SUMMARY:COÑECE E CAMIÑA | GR 53.2 PANORÁMICO DE VIGO - VARIANTE | SAIÁNS -VIGO (Pontevedra) | DOMINGO 15 DE MARZO DE 2026
DESCRIPTION:Por cuestión técnicas\, cambiamos o roteiro previsto en Oscos (Asturias)\, por este outro na contorna sur de Vigo. \nTrátase dun sendeiro que que vai polas montañas que rodean a gran urbe viguesa. É a primeira vez que o Coñece e Camiña\, pisará esta zona. Poderemos descubrur lugares máxicos\, con vistas ao Atlántico\, dende os grandes parques forestais que hai. \nA ruta vai por cómodos camiños e pistas\, con magníficos miradoiros\, que teremos  durante todo o traxecto. Tedes toda a información neste documento: \nCusto :      Socio de número/aspirante:  15 €       Non socio de número/aspirante:  19€ \nPara realizar a inscrición\, é necesario acceder a esta ligazón \nhttps://artabros.playoffinformatica.com/actividad/73/Conece-e-Camina-marzo-2026/ \nInformación: Teléfono/WhatsApp: 623 50 47 \nA saída será ás 8:00 h desde as paradas habituais.     Nº de prazas: 53
URL:https://artabros.org/evento/conoce-y-camina-forcon-de-los-rios-sta-eulalia-de-oscos-15-marzo/
CATEGORIES:Conoce y Camina,Senderismo
ATTACH;FMTTYPE=image/jpeg:https://artabros.org/wp-content/uploads/2026/03/Vigo-GR53-prep.C.C-26-scaled.jpg
ORGANIZER;CN="David":MAILTO:dasanti31@gmail.com
END:VEVENT
BEGIN:VEVENT
DTSTART;TZID=Europe/Madrid:20260316T170000
DTEND;TZID=Europe/Madrid:20260316T210000
DTSTAMP:20260423T224156
CREATED:20260312T102731Z
LAST-MODIFIED:20260312T110743Z
UID:13935-1773680400-1773694800@artabros.org
SUMMARY:MAC - MONTAÑISMO ADAPTADO PARA A COMUNIDADE
DESCRIPTION:Programa de actividades divulgativas gratuitas abertas para toda a xente\, especialmente dirixidas a persoas con discapacidade funcional e problemas de inclusión social. Carreira de orientación: Actividade de introdución ó deporte de orientación\, no que coa axuda dun mapa específico e unha búxula\, se deben atopar no terreo uns puntos marcados no mapa. Tedes todo o programa de actividades aquí Información en artabros@artabros.org ou tlf. 623 50 47 71 Inscripcións aquí
URL:https://artabros.org/evento/mac-montanismo-adaptado-para-a-comunidade/
CATEGORIES:Empujando Sonrisas,Infantiles,Orientación,Otras Actividades
ATTACH;FMTTYPE=image/png:https://artabros.org/wp-content/uploads/2026/03/portada-MAC-1-1.png
END:VEVENT
BEGIN:VEVENT
DTSTART;VALUE=DATE:20260325
DTEND;VALUE=DATE:20260326
DTSTAMP:20260423T224156
CREATED:20260104T173302Z
LAST-MODIFIED:20260312T125820Z
UID:13300-1774396800-1774483199@artabros.org
SUMMARY:VETERANOS ACTIVOS | CAMINO XACOBEO DE INVIERNO | A POBRA DO BROLLÓN – MONFORTE (Lugo) | MIÉRCOLES 25 DE MARZO DE 2026
DESCRIPTION:En la segunda ruta de Veteranos Activos de marzo\, vamos a hacer un precioso tramo del Camino Xacobeo de Invierno. Son 12 km muy fáciles entre A Pobra do Brollón y Monforte. Por la tarde tenemos la parte cultural del viaje\, con la visita al Colegio de Nuestra Señora de La Antigua\, hoy regido por los Padres Escolapios. Por su monumental edificio de estilo herreriano\, está considerado el Escorial Galego. En su interior podremos ver la iglesia\, el claustro\, su famosa escalera voladiza de 3 metros de ancho\, y una valiosa pinacoteca con dos obras de El Greco. \nTenéis toda la información en este documento \nPara realizar a inscripción\, es necesario acceder a esta enlace: \nhttps://artabros.playoffinformatica.com/actividad/86/Veterano-25-Marzo/  \nInformación: Teléfono/WhatsApp: 623 50 47 71 \nLa salida  será a las 9:00 h desde  Riazor\, con las paradas habituales. \nNº de plazas: 53 \nCosto     Socios de número: 15€  + 4\,50€ (visita opcional)     No socios: 19€ + 4\,50€
URL:https://artabros.org/evento/vets-activos-ruta-xacobea-de-inverno-brollon-monforte-25-marzo/
CATEGORIES:Senderismo,Veteranos Activos
ATTACH;FMTTYPE=image/jpeg:https://artabros.org/wp-content/uploads/2026/03/Pobra-de-Trives-dic.2025-300-R-scaled.jpg
END:VEVENT
BEGIN:VEVENT
DTSTART;TZID=Europe/Madrid:20260328T080000
DTEND;TZID=Europe/Madrid:20260328T170000
DTSTAMP:20260423T224156
CREATED:20260110T145917Z
LAST-MODIFIED:20260110T150055Z
UID:13549-1774684800-1774717200@artabros.org
SUMMARY:ORIENTACIÓN | 1ª y 2ª PRUEBAS DE LA LIGA GALLEGA DE MTBO | Santiso (A Coruña) | 28 de marzo 2026
DESCRIPTION:El 28 de marzo\, el Club de Orientación Compás organiza en el Concello de Santiso (A Coruña) las dos primeras pruebas de la Liga Gallega de MTBO de la temporada: una distancia larga y un sprint. Toda la información se irá publicando próximamente en la web de la Federación Gallega de Orientación.
URL:https://artabros.org/evento/orientacion-1a-y-2a-pruebas-de-la-liga-gallega-de-mtbo-santiso-a-coruna-sabado-28-de-marzo/
CATEGORIES:Orientación
ATTACH;FMTTYPE=image/jpeg:https://artabros.org/wp-content/uploads/2026/01/portada-orientacion.jpg
END:VEVENT
BEGIN:VEVENT
DTSTART;VALUE=DATE:20260330
DTEND;VALUE=DATE:20260406
DTSTAMP:20260423T224156
CREATED:20251209T203329Z
LAST-MODIFIED:20260119T155739Z
UID:13094-1774828800-1775433599@artabros.org
SUMMARY:SENDERISMO | SIERRA DE LA TRAMONTANA ( Mallorca) | DEL 30 DE MARZO AL 5 DE ABRIL DE 2026
DESCRIPTION:Después del éxito del viaje el año 2024\, a la isla de Madeira (Portugal)\, nos hemos animado a ir a las Islas Baleares\, para conocer la bellísima Sierra de la Tramontana\, al noroeste de la isla de Mallorca. Su paisaje cultural\, fue declarado por la Unesco Patrimonio de la Humanidad. \nSerán 6 rutas de senderismo de media montaña\, que pueden realizar cualquiera que salga habitualmente en el Coñece e Camina y en los viajes de varios días. Serán dirigidas por guías profesionales de la isla. El organizador es David Jove. \nNos alojaremos en el Hotel  Eix Alcuida****  https://www.eixhotels.com/hoteles/eix-alcudia-hotel\, en régimen de media pensión. \nCoste de la inscripción para socios en habitación doble: 1200€.  Va incluido un seguro de viaje/cancelación\, y todos los traslados.   El viaje se hará en vuelo directo desde Santiago\, con la compañía Vueling. \nCoste inscripción no socios: 1225€  \nPara facilitar el pago\, abrimos la inscripción con una cuota de 100€\, abonando el resto\, en tres plazos de enero a marzo. \nEnlace para inscribirse:https://artabros.playoffinformatica.com/actividad/42/SEMANA-SANTA-2026/ \nTenéis toda la información del programa completo de la rutas\, en este  documento \n  \nPara cualquier duda o para ampliar datos consultar con Rosa\, nuestra secretaria en el teléfono/WhatsApp 623 50 47 71
URL:https://artabros.org/evento/senderismo-sierra-de-la-tramontana-mallorca-del-30-de-marzo-al-5-de-abril-de-2026/
CATEGORIES:Senderismo
ATTACH;FMTTYPE=image/png:https://artabros.org/wp-content/uploads/2025/12/Sierra-de-La-Tramontana-2.png
ORGANIZER;CN="David":MAILTO:dasanti31@gmail.com
END:VEVENT
END:VCALENDAR