BEGIN:VCALENDAR
VERSION:2.0
PRODID:-//Sociedad de Montaña Ártabros - ECPv6.15.17.1//NONSGML v1.0//EN
CALSCALE:GREGORIAN
METHOD:PUBLISH
X-WR-CALNAME:Sociedad de Montaña Ártabros
X-ORIGINAL-URL:https://artabros.org
X-WR-CALDESC:Eventos para Sociedad de Montaña Ártabros
REFRESH-INTERVAL;VALUE=DURATION:PT1H
X-Robots-Tag:noindex
X-PUBLISHED-TTL:PT1H
BEGIN:VTIMEZONE
TZID:Europe/Madrid
BEGIN:DAYLIGHT
TZOFFSETFROM:+0100
TZOFFSETTO:+0200
TZNAME:CEST
DTSTART:20230326T010000
END:DAYLIGHT
BEGIN:STANDARD
TZOFFSETFROM:+0200
TZOFFSETTO:+0100
TZNAME:CET
DTSTART:20231029T010000
END:STANDARD
BEGIN:DAYLIGHT
TZOFFSETFROM:+0100
TZOFFSETTO:+0200
TZNAME:CEST
DTSTART:20240331T010000
END:DAYLIGHT
BEGIN:STANDARD
TZOFFSETFROM:+0200
TZOFFSETTO:+0100
TZNAME:CET
DTSTART:20241027T010000
END:STANDARD
BEGIN:DAYLIGHT
TZOFFSETFROM:+0100
TZOFFSETTO:+0200
TZNAME:CEST
DTSTART:20250330T010000
END:DAYLIGHT
BEGIN:STANDARD
TZOFFSETFROM:+0200
TZOFFSETTO:+0100
TZNAME:CET
DTSTART:20251026T010000
END:STANDARD
END:VTIMEZONE
BEGIN:VEVENT
DTSTART;TZID=Europe/Madrid:20241031T180000
DTEND;TZID=Europe/Madrid:20241103T170000
DTSTAMP:20260425T060932
CREATED:20240728T102501Z
LAST-MODIFIED:20240916T105110Z
UID:9809-1730397600-1730653200@artabros.org
SUMMARY:SENDERISMO DE MONTAÑA en los Montes Aquilianos - Ponferrada (León) | Del 31 octubre al 3 de Noviembre 2024 | Puente de Difuntos
DESCRIPTION:Con mucha anticipación\, abrimos la preinscripción de este viaje otoñal a las montañas de Ponferrada. La razón es la exigencia del hotel de un fuerte anticipo cuatro meses antes\, para garantizarnos la reserva.   Haremos un programa de tres rutas de dificultad física media en el mejor momento del otoño. Un día visitaremos los Canales Romanos de La Cabrera \nNos alojaremos en el Hotel Aroi****  \, muy cerca de dos de las rutas y  del Casco Antiguo de Ponferrada. Tenéis toda la información en este documento: Montes Aquilanos 2024 \nINSCRIPCIÓN: \nCuota socios: 270€  –   Socios temporales: 300€ \nPreinscripción: 50€ \nPlazo: Para los socios\, desde la publicación de la información. Para los socios   temporales\, desde el 24 de junio. \nTel. /WhatsApp: 623504771 / email: artabros@artabros.org. \nCuenta Ártabros: ES25-2080 5565 0030 4000 2362\nPrimero hay que solicitarla la plaza\, una vez confirmada\, se hace el ingreso correspondiente \nClave para incluir en el pago por transferencia: 71200440 \nSalida: jueves 31 de octubre a las 18 horas\, de la Parada de Bus\, de la Plaza Casares Quiroga. \nLlegada:  domingo 3 de noviembre sobre las 19\,30 horas\, en el mismo lugar. \n 
URL:https://artabros.org/evento/senderismo-de-montana-en-los-montes-aquilianos-ponferrada-leon-del-31-octubre-al-3-de-noviembre-de-2024-puente-de-difuntos/
CATEGORIES:Otras Actividades,Senderismo
ATTACH;FMTTYPE=image/jpeg:https://artabros.org/wp-content/uploads/2024/06/Montes-Alquilianos.jpg
ORGANIZER;CN="David":MAILTO:dasanti31@gmail.com
END:VEVENT
BEGIN:VEVENT
DTSTART;TZID=Europe/Madrid:20241108T170000
DTEND;TZID=Europe/Madrid:20241108T183000
DTSTAMP:20260425T060932
CREATED:20241020T105757Z
LAST-MODIFIED:20241020T110909Z
UID:11389-1731085200-1731090600@artabros.org
SUMMARY:MARCHA NÓRDICA | PARQUE DE SAN DIEGO | VIERNES 8 DE NOVIEMBRE DE 2024
DESCRIPTION:Seguimos con la práctica de la marcha nórdica. Puede asistir cualquier socio que tenga unos conocimientos básicos de esta disciplina. La inscripción es GRATUITA. Hay que anotarse en el correo artabros@artabros.org. En el WhatsApp 623 504 771\, o llamando a este mismo número. Hay que llevar los bastones. \nSerá de 17 a 18\,30 horas. Punto de encuentro \n  \nl
URL:https://artabros.org/evento/marcha-nordica-parque-de-san-diego-viernes-8-de-noviembre-de-2024/
CATEGORIES:Marcha Nórdica,Otras Actividades
ATTACH;FMTTYPE=image/jpeg:https://artabros.org/wp-content/uploads/2024/10/Marcha-Nordica-foto-web-portada-scaled.jpg
ORGANIZER;CN="David":MAILTO:dasanti31@gmail.com
END:VEVENT
BEGIN:VEVENT
DTSTART;VALUE=DATE:20241113
DTEND;VALUE=DATE:20241114
DTSTAMP:20260425T060932
CREATED:20241003T192034Z
LAST-MODIFIED:20241031T100132Z
UID:11185-1731456000-1731542399@artabros.org
SUMMARY:VETERANOS ACTIVOS | ROTEIRO DOS PETROGLIFOS DE TEO (A CORUÑA). DE CORNIDE A LOUREIRO | VISITA AO MUSEO PEDAGÓXICO DE GALICIA EN COMPOSTELA | MÉRCORES 13 DE NOVEMBRO DE 2024
DESCRIPTION:Por razóns técnicas\, cambiamos a roteiro previsto no calendario inicial. Tedes toda a información neste documento \nDistancia: 9\,2 km.\nDificultade técnica: Baixa\nDificultade física: Baixa \nInformacións e inscricións: Tel. /WhatsApp: 623504771 / email: artabros@artabros.org \nClave para incluir no pago por transferencia: 71200451 \nConta: ES25-2080 5565 0030 4000 2362\nCusto dá actividade: Socios 12€ Non socios 16€ \nSaída   MÉRCORES as 9\,00 horas do Pavillón de Deportes de Riazor\, con paradas en Xoan Flórez\, Alfonso Molina e Carrefour.
URL:https://artabros.org/evento/veteranos-activos-roteiro-dos-petroglifos-de-teo-a-coruna-de-cornide-a-loureiro-visita-ao-museo-pedagoxico-de-galicia-en-compostela-mercores-13-de-novembro-de-2024/
CATEGORIES:Senderismo,Veteranos Activos
ATTACH;FMTTYPE=image/jpeg:https://artabros.org/wp-content/uploads/2024/02/VeteranosActivos.jpg
END:VEVENT
BEGIN:VEVENT
DTSTART;VALUE=DATE:20241115
DTEND;VALUE=DATE:20241118
DTSTAMP:20260425T060932
CREATED:20241006T214332Z
LAST-MODIFIED:20241007T141111Z
UID:11239-1731628800-1731887999@artabros.org
SUMMARY:MONTAÑISMO CLÁSICO - ALTO SIL (LEÓN) - 15\, 16 Y 17 DE NOVIEMBRE
DESCRIPTION:Empezamos la temporada de montaña yendo al Alto Sil\, una zona montañosa del Suroeste de León\, un poco ensombrecida por la pujanza turística de sus  vecinas Somiedo y Babia\, pero llena de atractivos montañeros. \nEs un paisaje similar a Somiedo\, valles fluviales\, empinadas laderas de bosque caducifolio y crestas suaves con pedreros y resaltes de cuarcita. Desniveles importantes entre las cumbres y el fondo del valle. Algunas lagunas glaciares en las cabeceras de los valles. Abundancia de oso y la mayor presencia  de toda la península de urogallo. \nALOJAMIENTO: \nNos alojaremos en el Camping La Zarapica en Palacios de Sil\, en régimen de media pensión (desayuno y cena). Hay plazas en bungalows (mantas y toallas) y también se puede ir en tienda de campaña o en furgo o autocaravana. \nDESPLAZAMIENTO: \nEl desplazamiento hasta allí y de allí al inicio de las actividades es en coches particulares (en el grupo que se crea de WhatsApp nos ponemos de acuerdo y os pasamos la localización). \nPLAZAS: 18 (13 en bungalow y 5 más en camping) *tiendas del club disponibles. \nPRECIO: 65€ socios y 80€ no socios. (55€ y 70€ en tienda de campaña). \n*Pago a través de transferencia bancaria en el número de cuenta: ES25 2080 5565 0030 4000 2362. Concepto: 71300209 + nombre. \nPROGRAMA: \nProcurad llegar el viernes 15 antes de las nueve y media para la cena. \nEl sábado subiremos al Pico Miro y al Alcorcón de Busmori\, pasando por las lagunas de Fasgueo y Pozo Cheiroso. Ruta muy montañera y variada. Crestas\, lagos glaciares\, pedreros\, bosques… \nEl domingo haremos una travesía montañera en el otro lado del valle\, visitando las brañas de Zarameo\, la Seita y la Degollada\, y atravesando uno de los bosques más mágicos de la Cordillera Cantábrica. \nInformación complementaria aquí: MONTAÑISMO CLÁSICO POR EL ALTO SIL (LEÓN)\, 15\, 16 Y 17 DE NOVIEMBRE.
URL:https://artabros.org/evento/montanismo-clasico-alto-sil-leon-15-16-y-17-de-noviembre/
CATEGORIES:Montaña
ATTACH;FMTTYPE=image/png:https://artabros.org/wp-content/uploads/2024/10/alto-sil.png
ORGANIZER;CN="%C3%81rtabros":MAILTO:artabros@artabros.org
END:VEVENT
BEGIN:VEVENT
DTSTART;TZID=Europe/Madrid:20241115T170000
DTEND;TZID=Europe/Madrid:20241115T183000
DTSTAMP:20260425T060932
CREATED:20241020T111210Z
LAST-MODIFIED:20241020T111210Z
UID:11391-1731690000-1731695400@artabros.org
SUMMARY:MARCHA NÓRDICA | PARQUE DE SAN DIEGO | VIERNES 15 DE NOVIEMBRE DE 2024
DESCRIPTION:Seguimos con la práctica de la marcha nórdica. Puede asistir cualquier socio que tenga unos conocimientos básicos de esta disciplina. La inscripción es GRATUITA. Hay que anotarse en el correo artabros@artabros.org. En el WhatsApp xxxx o llamando a este mismo número. Hay que llevar los bastones. \nSerá de 17 a 18\,30 horas. Punto de encuentro
URL:https://artabros.org/evento/marcha-nordica-parque-de-san-diego-viernes-15-de-noviembre-de-2024/
CATEGORIES:Marcha Nórdica,Otras Actividades
ATTACH;FMTTYPE=image/jpeg:https://artabros.org/wp-content/uploads/2024/10/Marcha-Nordica-foto-web-portada-scaled.jpg
ORGANIZER;CN="David":MAILTO:dasanti31@gmail.com
END:VEVENT
BEGIN:VEVENT
DTSTART;VALUE=DATE:20241117
DTEND;VALUE=DATE:20241118
DTSTAMP:20260425T060932
CREATED:20241002T084051Z
LAST-MODIFIED:20241015T190216Z
UID:11173-1731801600-1731887999@artabros.org
SUMMARY:COÑECE E CAMIÑA |  SENDA MITOLÓXICA  DO MONTE VISO - BRANAS DOS RÍOS  SAR  E  SARELA | SANTIAGO DE COMPOSTELA | DOMINGO 17  DE NOVEMBRO DE 2024
DESCRIPTION:O 17 de novembro\, faremos un versión ampliada para Coñece e Camiña\, dá ruta do ano pasado de Veteranos Activos que chamamos «O Santiago Descoñecido».  Nesta ocasion\, veremos máis cousas de Santiago\, como  a Senda Mitolóxica do Monte Viso\, o a Ruta do Río Sarela. Tedes toda a información neste documento \nDificultade física: Media. \nDificultade técnica: Baixa \nInformación e inscricións: Tel / WhatsApp: 623 50 47 71 correo: artabros@artabros.org \nConta: ES25-2080 5565 0030 4000 2362\nCusto :   Socios 12€  Non socios 16€ \nClave para poñer na transferencia:  71200453 \nSaída: 8 horas do Pavillón de Deportes de Riazor\, e paradas en Juan Flórez\, Alfonso Molina e Carrefour. \n 
URL:https://artabros.org/evento/conece-e-camina-senda-mitoloxica-do-monte-viso-branas-dos-rios-sar-e-sarela-santiago-de-compostela-domingo-17-de-novembro-de-2024/
CATEGORIES:Conoce y Camina,Senderismo
ORGANIZER;CN="David":MAILTO:dasanti31@gmail.com
END:VEVENT
BEGIN:VEVENT
DTSTART;TZID=Europe/Madrid:20241125T080000
DTEND;TZID=Europe/Madrid:20241128T210000
DTSTAMP:20260425T060932
CREATED:20241002T165137Z
LAST-MODIFIED:20241014T110417Z
UID:11180-1732521600-1732827600@artabros.org
SUMMARY:VETERANOS ACTIVOS | LA PERNÍA (Palencia) | SENDERISMO Y VISITAS CULTURALES | DEL 25 AL 28 DE NOVIEMBRE DE 2024
DESCRIPTION:Volvemos a esta hermosísima zona de la Montaña Palentina\, esta vez con los Veteranos Activos. Haremos rutas de senderismo de nivel bajo y conoceremos una de las mejores zonas del Románico Palentino \nTenéis toda la información en este documento \nINSCRIPCIÓN: \nSocios en habitación doble: 300€  – En habitación individual 340€ – No socios doble: 330€ \nTel. /WhatsApp: 623504771 / email: artabros@artabros.org. \nCuenta Ártabros: ES25-2080 5565 0030 4000 2362\nPrimero hay que solicitarla la plaza\, una vez confirmada\, se hace el ingreso correspondiente \nClave para incluir en el pago por transferencia: 71200448 \nSalida: lunes 25 de noviembre. A las 7\,45 h\, Parada bus Deportienda en Riazor\, 8\,05h Juan Flórez. 8\,10h\, Alfonso Molina. 8\,15h Carrefour. Comida en ruta. \nLlegada: jueves 28 de noviembre sobre las 21 horas\, en los mismos lugares \n  \n 
URL:https://artabros.org/evento/veteranos-activos-la-pernia-palencia-senderismo-y-visitas-culturales-del-25-al-28-de-noviembre-de-2024/
CATEGORIES:Senderismo,Veteranos Activos
ATTACH;FMTTYPE=image/jpeg:https://artabros.org/wp-content/uploads/2024/10/La-Pernia-2016-226.jpg
ORGANIZER;CN="David":MAILTO:dasanti31@gmail.com
END:VEVENT
END:VCALENDAR