BEGIN:VCALENDAR
VERSION:2.0
PRODID:-//Sociedad de Montaña Ártabros - ECPv6.15.17.1//NONSGML v1.0//EN
CALSCALE:GREGORIAN
METHOD:PUBLISH
X-ORIGINAL-URL:https://artabros.org
X-WR-CALDESC:Eventos para Sociedad de Montaña Ártabros
REFRESH-INTERVAL;VALUE=DURATION:PT1H
X-Robots-Tag:noindex
X-PUBLISHED-TTL:PT1H
BEGIN:VTIMEZONE
TZID:Europe/Madrid
BEGIN:DAYLIGHT
TZOFFSETFROM:+0100
TZOFFSETTO:+0200
TZNAME:CEST
DTSTART:20240331T010000
END:DAYLIGHT
BEGIN:STANDARD
TZOFFSETFROM:+0200
TZOFFSETTO:+0100
TZNAME:CET
DTSTART:20241027T010000
END:STANDARD
BEGIN:DAYLIGHT
TZOFFSETFROM:+0100
TZOFFSETTO:+0200
TZNAME:CEST
DTSTART:20250330T010000
END:DAYLIGHT
BEGIN:STANDARD
TZOFFSETFROM:+0200
TZOFFSETTO:+0100
TZNAME:CET
DTSTART:20251026T010000
END:STANDARD
BEGIN:DAYLIGHT
TZOFFSETFROM:+0100
TZOFFSETTO:+0200
TZNAME:CEST
DTSTART:20260329T010000
END:DAYLIGHT
BEGIN:STANDARD
TZOFFSETFROM:+0200
TZOFFSETTO:+0100
TZNAME:CET
DTSTART:20261025T010000
END:STANDARD
END:VTIMEZONE
BEGIN:VEVENT
DTSTART;TZID=Europe/Madrid:20250516T180000
DTEND;TZID=Europe/Madrid:20250518T220000
DTSTAMP:20260424T212559
CREATED:20250403T150306Z
LAST-MODIFIED:20250430T183044Z
UID:12234-1747418400-1747605600@artabros.org
SUMMARY:MONTAÑISMO CLÁSICO I GERÉS I 16 \, 17 E 18 MAIO
DESCRIPTION:Fin de semana de montaña en la serra del Xurés/Geres\, el sábado se hará una ascensión al pico Brazalite pasando por las Gralleiras saliendo desde la portela de Pitoes.El domingo subiremos la Fontefría y a la roca Sendeia desde Guende. Serán dos actividades montañeras de nivel medio en un entorno de agujas de granito poco habitual en Galicia. \nInformación e inscripciones:  \nTel: 623504771 / 609206207 \nMail: artabros@artabros.org \nPlazas:  \n14 plazas disponibles \nClave para incluir en el pago por transferencia:  \nCuenta: ES25-2080 5565 0030 4000 2362 \nPrecio de la actividad:  \nSocios 85€ \nNo Socios 100€ \nDesplazamiento:  \nEl desplazamiento se hará en coches particulares\, también se hará un grupo de whatsapp para organizarnos. Se debe estar en el albergue de Aviva antes de las 21:00 h del viernes 16 de mayo. \nOrganizador:  \nNolo Esmoris – nolodelnorte@gmail.com \nMás información de la actividad aquí
URL:https://artabros.org/evento/actividad-de-montanismo-clasico-en-geres-portugal-161718-mayo/
CATEGORIES:Montaña
ATTACH;FMTTYPE=image/png:https://artabros.org/wp-content/uploads/2025/04/Imagen1.png
ORGANIZER;CN="%C3%81rtabros":MAILTO:artabros@artabros.org
END:VEVENT
BEGIN:VEVENT
DTSTART;TZID=Europe/Madrid:20250517T080000
DTEND;TZID=Europe/Madrid:20250518T170000
DTSTAMP:20260424T212559
CREATED:20250415T160104Z
LAST-MODIFIED:20250415T160104Z
UID:12300-1747468800-1747587600@artabros.org
SUMMARY:ORIENTACIÓN | CAMPEONATO DE ESPAÑA DE CENTROS ESCOLARES DE ORIENTACIÓN (CECEO) | Pontevedra | 17 y 18 mayo 2025
DESCRIPTION:La Federación Galega de Orientación organiza el 17 y 18 de mayo el Campeonato de España de Centros Escolares de Orientación (CECEO)\, que se celebrará este 2025 en la provincia de Pontevedra. \nEste Campeonato reunirá a jóvenes talentos de toda España (nacidos entre los años 2007-2012)\, que pondrán a prueba su capacidad de orientación en terrenos gallegos\, combinando deporte\, estrategia y naturaleza en un marco histórico y cultural. \nLas inscripciones deben realizarse por parte de los responsables técnicos completando el documento de Excel disponible en la web de la prueba y enviarlo por correo electrónico a la dirección escolaruniversitario@fegado.es antes del 1 de mayo  \nLos últimos detalles de la prueba (horarios\, precios\, distancias\, información técnica…) se irán publicando en la web de la Federación Galega de Orientación
URL:https://artabros.org/evento/orientacion-campeonato-de-espana-de-centros-escolares-de-orientacion-ceceo-pontevedra-17-y-18-mayo-2025/
CATEGORIES:Orientación
ATTACH;FMTTYPE=image/jpeg:https://artabros.org/wp-content/uploads/2025/04/ceceo_page-0001.jpg
END:VEVENT
END:VCALENDAR