BEGIN:VCALENDAR
VERSION:2.0
PRODID:-//Sociedad de Montaña Ártabros - ECPv6.15.17.1//NONSGML v1.0//EN
CALSCALE:GREGORIAN
METHOD:PUBLISH
X-ORIGINAL-URL:https://artabros.org
X-WR-CALDESC:Eventos para Sociedad de Montaña Ártabros
REFRESH-INTERVAL;VALUE=DURATION:PT1H
X-Robots-Tag:noindex
X-PUBLISHED-TTL:PT1H
BEGIN:VTIMEZONE
TZID:Europe/Madrid
BEGIN:DAYLIGHT
TZOFFSETFROM:+0100
TZOFFSETTO:+0200
TZNAME:CEST
DTSTART:20240331T010000
END:DAYLIGHT
BEGIN:STANDARD
TZOFFSETFROM:+0200
TZOFFSETTO:+0100
TZNAME:CET
DTSTART:20241027T010000
END:STANDARD
BEGIN:DAYLIGHT
TZOFFSETFROM:+0100
TZOFFSETTO:+0200
TZNAME:CEST
DTSTART:20250330T010000
END:DAYLIGHT
BEGIN:STANDARD
TZOFFSETFROM:+0200
TZOFFSETTO:+0100
TZNAME:CET
DTSTART:20251026T010000
END:STANDARD
BEGIN:DAYLIGHT
TZOFFSETFROM:+0100
TZOFFSETTO:+0200
TZNAME:CEST
DTSTART:20260329T010000
END:DAYLIGHT
BEGIN:STANDARD
TZOFFSETFROM:+0200
TZOFFSETTO:+0100
TZNAME:CET
DTSTART:20261025T010000
END:STANDARD
END:VTIMEZONE
BEGIN:VEVENT
DTSTART;TZID=Europe/Madrid:20250312T093000
DTEND;TZID=Europe/Madrid:20250312T133000
DTSTAMP:20260425T005939
CREATED:20250310T123657Z
LAST-MODIFIED:20250310T124557Z
UID:12144-1741771800-1741786200@artabros.org
SUMMARY:RUTA PERIURBANA | A CORUÑA - PUERTO DE SANTA CRUZ (Oleiros)  |  MIÉRCOLES 12 DE MARZO DE 2025
DESCRIPTION:Continuamos las rutas periurbana\, con una caminata hasta el puerto de Santa Cruz\,  Es un lugar conocido\, con continuas mejoras que sorprenderá a muchos. \nDistancia:  11 km.   Desnivel:  50 m.     Lugar de salida:  Plaza de La Palloza   Hora:  9:30 \nLa vuelta:  Sobre las 13:30 – 14 h. La haremos en transporte público. Hay buses cada 15 – 20 minutos. Os recomendamos llevar la tarjeta de transporte de la Xunta. \nActidad gratuita para socios y no socios     –    Habrá grupo de marcha nórdica. \nPodéis descargar aquí el folleto aquí \n  \n 
URL:https://artabros.org/evento/ruta-periurbana-a-coruna-puerto-de-santa-cruz-oleiros-miercoles-12-de-marzo-de-2025/
LOCATION:ROBERTO\, España
CATEGORIES:Senderismo
ATTACH;FMTTYPE=image/jpeg:https://artabros.org/wp-content/uploads/2025/03/Castillo-de-Sta.Cruz-Oleiros.jpg
END:VEVENT
END:VCALENDAR